BEGIN:VCALENDAR
VERSION:2.0
PRODID:-//ChamberMaster//Event Calendar 2.0//EN
METHOD:PUBLISH
X-PUBLISHED-TTL:P3D
REFRESH-INTERVAL:P3D
CALSCALE:GREGORIAN
BEGIN:VEVENT
DTSTART:20221209T130000Z
DTEND:20221209T140000Z
X-MICROSOFT-CDO-ALLDAYEVENT:FALSE
SUMMARY:Coffee Connection Sidetrack Bookshop
DESCRIPTION:Join us at Sidetrack Bookshop for our final Coffee Connection of the year! This free networking event is open to all of our members and members to be.\n\n\n\nWe will have informal networking with coffee/breakfast bites from 8:00-8:30am. At 8:30am each attendee will have the opportunity to introduce themselves to the group with a 30 second elevator pitch. Be prepared to tell us who you are\, what you're looking for and how you can benefit a company or organization.
X-ALT-DESC;FMTTYPE=text/html:<div><span style="font-size:16px\;"><span style="font-family:arial\;">Join us at Sidetrack Bookshop for our final Coffee Connection of the year!&nbsp\;<span style="color: rgb(51\, 51\, 51)\;">This free networking event is open to all of our members and members to be.</span><br font-size:="" style="color: rgb(51\, 51\, 51)\; font-family: sans-serif\, Arial\, Verdana\, " trebuchet="" />\n<br font-size:="" style="color: rgb(51\, 51\, 51)\; font-family: sans-serif\, Arial\, Verdana\, " trebuchet="" />\nWe will have informal networking with coffee/breakfast bites from 8:00-8:30am. At 8:30am each attendee will have the opportunity to introduce themselves to the group with a 30 second elevator pitch. Be prepared to tell us who you are\, what you&#39\;re looking for and how you can&nbsp\;benefit a company or organization.&nbsp\;</span></span></div>\n
LOCATION:Sidetrack Bookshop 325 S. Washington Ave. Royal Oak\, MI 48067
UID:e.2933.4057
SEQUENCE:3
DTSTAMP:20260424T114915Z
URL:http://royaloakchamber.smartcms.site/events/details/coffee-connection-sidetrack-bookshop-4057
END:VEVENT

END:VCALENDAR
