BEGIN:VCALENDAR
VERSION:2.0
PRODID:-//ChamberMaster//Event Calendar 2.0//EN
METHOD:PUBLISH
X-PUBLISHED-TTL:P3D
REFRESH-INTERVAL:P3D
CALSCALE:GREGORIAN
BEGIN:VEVENT
DTSTART:20231013T120000Z
DTEND:20231013T130000Z
X-MICROSOFT-CDO-ALLDAYEVENT:FALSE
SUMMARY:Coffee Connection @ Royal Oak Schools
DESCRIPTION:You are invited to our October Coffee Connection hosted by Royal Oak Schools.\n\n\n\nWe will have informal networking with coffee & breakfast bites from 8:00-8:30am.  At 8:30am each attendee will have the opportunity to introduce themselves to the group with a 30 second elevator pitch. Be prepared to tell us who you are\, what you're looking for and how you can benefit a company or organization.
X-ALT-DESC;FMTTYPE=text/html:<div>You are invited to our October Coffee Connection hosted by Royal Oak Schools.<br />\n<br />\nWe will have informal networking with coffee &amp\; breakfast bites from 8:00-8:30am.&nbsp\; At 8:30am each attendee will have the opportunity to introduce themselves to the group with a 30 second elevator pitch. Be prepared to tell us who you are\, what you&#39\;re looking for and how you can&nbsp\;benefit a company or organization.&nbsp\;<br />\n<br />\n&nbsp\;</div>\n
LOCATION:Royal Oak Schools District Office Board Room 800 DeVillen Royal Oak\, MI 48073 There is additional parking on the south side of the building -Churchill Adult Ed entrance (707 Girard).
UID:e.2933.4169
SEQUENCE:3
DTSTAMP:20260422T205348Z
URL:http://royaloakchamber.smartcms.site/events/details/coffee-connection-royal-oak-schools-4169
END:VEVENT

END:VCALENDAR
