BEGIN:VCALENDAR
VERSION:2.0
PRODID:-//ChamberMaster//Event Calendar 2.0//EN
METHOD:PUBLISH
X-PUBLISHED-TTL:P3D
REFRESH-INTERVAL:P3D
CALSCALE:GREGORIAN
BEGIN:VEVENT
DTSTART:20250110T130000Z
DTEND:20250110T140000Z
X-MICROSOFT-CDO-ALLDAYEVENT:FALSE
SUMMARY:Coffee Connection Royal Oak Music Theatre
DESCRIPTION:You are invited to our first Coffee Connection of 2025!  Join us at the Royal Oak Music Theatre at 8am. \n\n\n\nWe will have informal networking with coffee & breakfast treats (provided graciously by our host!) from 8:00-8:30am.  At 8:30am each attendee will have the opportunity to introduce themselves to the group with a 30 second elevator pitch. Be prepared to tell us who you are\, what you're looking for and how you can benefit a company or organization.
X-ALT-DESC;FMTTYPE=text/html:<div><span style="font-size:16px\;"><span style="font-family:arial\;">You are invited to our first Coffee Connection of 2025!&nbsp\;&nbsp\;Join us at the Royal Oak Music Theatre at 8am.&nbsp\;</span></span><br />\n<br />\n<span style="font-size:16px\;"><span style="font-family:arial\;">We will have informal networking with coffee &amp\; breakfast treats (provided graciously by our host!)&nbsp\;from 8:00-8:30am.&nbsp\; At 8:30am each attendee will have the opportunity to introduce themselves to the group with a 30 second elevator pitch. Be prepared to tell us who you are\, what you&#39\;re looking for and how you can&nbsp\;benefit a company or organization.&nbsp\;</span></span><br />\n<br />\n<br />\n&nbsp\;</div>\n
LOCATION:Royal Oak Music Theatre 318 W. Fourth St. Royal Oak\, MI 48067
UID:e.2933.4645
SEQUENCE:3
DTSTAMP:20260419T141110Z
URL:http://royaloakchamber.smartcms.site/events/details/coffee-connection-royal-oak-music-theatre-4645
END:VEVENT

END:VCALENDAR
