BEGIN:VCALENDAR
VERSION:2.0
PRODID:-//ChamberMaster//Event Calendar 2.0//EN
METHOD:PUBLISH
X-PUBLISHED-TTL:P3D
REFRESH-INTERVAL:P3D
CALSCALE:GREGORIAN
BEGIN:VEVENT
DTSTART:20220812T120000Z
DTEND:20220812T130000Z
X-MICROSOFT-CDO-ALLDAYEVENT:FALSE
SUMMARY:Coffee Connection Ray's Ice Cream
DESCRIPTION:Join us for an end of the summer Coffee Connection at Ray's Ice Cream! We will fuel you up with Coffee\, Ice Cream and networking.
X-ALT-DESC;FMTTYPE=text/html:Join us for an end of the summer Coffee Connection at Ray&#39\;s Ice Cream! We will fuel you up with Coffee\, Ice Cream and networking.&nbsp\;
LOCATION:Ray's Ice Cream 4233 Coolidge Hwy. Royal Oak\, MI 48073
UID:e.2933.4016
SEQUENCE:3
DTSTAMP:20260424T043221Z
URL:http://royaloakchamber.smartcms.site/events/details/coffee-connection-ray-s-ice-cream-4016
END:VEVENT

END:VCALENDAR
