BEGIN:VCALENDAR
VERSION:2.0
PRODID:-//ChamberMaster//Event Calendar 2.0//EN
METHOD:PUBLISH
X-PUBLISHED-TTL:P3D
REFRESH-INTERVAL:P3D
CALSCALE:GREGORIAN
BEGIN:VEVENT
DTSTART:20230310T130000Z
DTEND:20230310T140000Z
X-MICROSOFT-CDO-ALLDAYEVENT:FALSE
SUMMARY:Coffee Connection Parks Title
DESCRIPTION:You are invited to our March Coffee Connection hosted by Parks Title! \n\nWe will have informal networking with coffee/breakfast bites from 8:00-8:30am. At 8:30am each attendee will have the opportunity to introduce themselves to the group with a 30 second elevator pitch. Be prepared to tell us who you are\, what you're looking for and how you can benefit a company or organization. \n\n\n\nPlenty of parking in the front & back lot as well as both sides of Main Street and E. Hudson. Please do not park in the Veterinarian parking lot.
X-ALT-DESC;FMTTYPE=text/html:<div><span style="font-size:16px\;"><span style="font-family:arial\;">You are invited to our March Coffee Connection hosted by Parks Title!&nbsp\;</span></span></div>\n\n<p><span style="color: rgb(51\, 51\, 51)\; font-family: arial\; font-size: 16px\; background-color: rgb(255\, 255\, 255)\;">We will have informal networking with coffee/breakfast bites from 8:00-8:30am. At 8:30am each attendee will have the opportunity to introduce themselves to the group with a 30 second elevator pitch. Be prepared to tell us who you are\, what you&#39\;re looking for and how you can&nbsp\;benefit a company or organization.&nbsp\;</span><br />\n<br />\nPlenty of parking in the front &amp\; back lot as well as both sides of Main Street and E. Hudson. Please do not park in the Veterinarian parking lot.&nbsp\;&nbsp\;</p>\n
LOCATION:Parks Title 916 S. Main St.\, Ste. 100 Royal Oak\, MI 48067
UID:e.2933.4088
SEQUENCE:3
DTSTAMP:20260424T065544Z
URL:http://royaloakchamber.smartcms.site/events/details/coffee-connection-parks-title-4088
END:VEVENT

END:VCALENDAR
