BEGIN:VCALENDAR
VERSION:2.0
PRODID:-//ChamberMaster//Event Calendar 2.0//EN
METHOD:PUBLISH
X-PUBLISHED-TTL:P3D
REFRESH-INTERVAL:P3D
CALSCALE:GREGORIAN
BEGIN:VEVENT
DTSTART:20230512T120000Z
DTEND:20230512T130000Z
X-MICROSOFT-CDO-ALLDAYEVENT:FALSE
SUMMARY:Coffee Connection @M3 Investment Services
DESCRIPTION:You are invited to our May Coffee Connection hosted by M3 Investment Services. Lots of parking available at no charge! There is available space in the lot behind M3\, in the Beaumont lot next door and in the cul-de-sac. \n\nWe will have informal networking with coffee/breakfast bites from 8:00-8:30am. At 8:30am each attendee will have the opportunity to introduce themselves to the group with a 30 second elevator pitch. Be prepared to tell us who you are\, what you're looking for and how you can benefit a company or organization.
X-ALT-DESC;FMTTYPE=text/html:<div><font face="arial"><span style="font-size: 16px\;">You are invited to our May Coffee Connection hosted by M3 Investment Services. Lots of parking available at no charge! There is available space in the lot behind M3\, in the Beaumont lot next door and&nbsp\;in the cul-de-sac.&nbsp\;</span></font></div>\n\n<p><span style="color: rgb(51\, 51\, 51)\; font-family: arial\; font-size: 16px\; background-color: rgb(255\, 255\, 255)\;">We will have informal networking with coffee/breakfast bites from 8:00-8:30am. At 8:30am each attendee will have the opportunity to introduce themselves to the group with a 30 second elevator pitch. Be prepared to tell us who you are\, what you&#39\;re looking for and how you can&nbsp\;benefit a company or organization.&nbsp\;</span><br />\n<br />\n&nbsp\;</p>\n
LOCATION:M3 Investment Services 990 N. Main St. Royal Oak\, MI 48067
UID:e.2933.4110
SEQUENCE:3
DTSTAMP:20260424T000834Z
URL:http://royaloakchamber.smartcms.site/events/details/coffee-connection-m3-investment-services-4110
END:VEVENT

END:VCALENDAR
