BEGIN:VCALENDAR
VERSION:2.0
PRODID:-//ChamberMaster//Event Calendar 2.0//EN
METHOD:PUBLISH
X-PUBLISHED-TTL:P3D
REFRESH-INTERVAL:P3D
CALSCALE:GREGORIAN
BEGIN:VEVENT
DTSTART:20220610T120000Z
DTEND:20220610T130000Z
X-MICROSOFT-CDO-ALLDAYEVENT:FALSE
SUMMARY:Coffee Connection Howard Hanna Real Estate hosted by Bill Calahan
DESCRIPTION:Our June Coffee Connection is being hosted by Howard Hanna Real Estate\, hosted by Bill Cahalan. Parking available on the street and also in the deck connected to the Howard Hanna building. Bring your ticket in for validation! You can enter the deck from Bowers Street. \n\n\n\nAll Members and Members-to-be are invited!
X-ALT-DESC;FMTTYPE=text/html:Our June Coffee Connection is being hosted by Howard Hanna Real Estate\, hosted by Bill Cahalan. Parking available on the street and also in the deck connected to the Howard Hanna building. Bring your ticket in for validation! You can enter the deck from Bowers Street.&nbsp\;<br />\n<br />\nAll Members and Members-to-be are invited!
LOCATION:Howard Hanna Real Estate 555 Old Woodward Ave. Ste. 22U Birmingham\, MI 48009
UID:e.2933.3988
SEQUENCE:3
DTSTAMP:20260424T062100Z
URL:http://royaloakchamber.smartcms.site/events/details/coffee-connection-howard-hanna-real-estate-hosted-by-bill-calahan-3988
END:VEVENT

END:VCALENDAR
