BEGIN:VCALENDAR
VERSION:2.0
PRODID:-//ChamberMaster//Event Calendar 2.0//EN
METHOD:PUBLISH
X-PUBLISHED-TTL:P3D
REFRESH-INTERVAL:P3D
CALSCALE:GREGORIAN
BEGIN:VEVENT
DTSTART:20221014T120000Z
DTEND:20221014T130000Z
X-MICROSOFT-CDO-ALLDAYEVENT:FALSE
SUMMARY:Coffee Connection Citizens State Bank
DESCRIPTION:Join us at Citizens State Bank for our October Coffee Connection! This free networking event is open to all of our members and members to be.\n\n\n\nWe will have informal networking with coffee/breakfast bites from 8:00-8:30am. At 8:30 each attendee will have the opportunity to introduce themselves to the group with a 30 second elevator pitch. Be prepared to tell us who you are\, what you're looking for and how can you can benefit a company or organization.
X-ALT-DESC;FMTTYPE=text/html:Join us at Citizens State Bank for our October Coffee Connection! This free networking event is open to all of our members and members to be.<br />\n<br />\nWe will have informal networking with coffee/breakfast bites from 8:00-8:30am. At 8:30 each attendee will have the opportunity to introduce themselves to the group with a 30 second elevator pitch. Be prepared to tell us who you are\, what you&#39\;re looking for and how can you can benefit a company or organization.&nbsp\;
LOCATION:Citizens State Bank 32500 Woodward Ave. Royal Oak\, MI 48073
UID:e.2933.4032
SEQUENCE:3
DTSTAMP:20260424T004009Z
URL:http://royaloakchamber.smartcms.site/events/details/coffee-connection-citizens-state-bank-4032
END:VEVENT

END:VCALENDAR
