BEGIN:VCALENDAR
VERSION:2.0
PRODID:-//ChamberMaster//Event Calendar 2.0//EN
METHOD:PUBLISH
X-PUBLISHED-TTL:P3D
REFRESH-INTERVAL:P3D
CALSCALE:GREGORIAN
BEGIN:VEVENT
DTSTART:20220311T130000Z
DTEND:20220311T140000Z
X-MICROSOFT-CDO-ALLDAYEVENT:FALSE
SUMMARY:Coffee Connection -Bamboo Royal Oak
DESCRIPTION:Please join us for an in-person Coffee Connection at Bamboo Royal Oak. Masks are required to enter Bamboo. Masks can be removed while eating and drinking only. \n\n\n\nMembers and Perspective Members Welcome!
X-ALT-DESC;FMTTYPE=text/html:Please join us for an in-person Coffee Connection at Bamboo Royal Oak. Masks are required to enter Bamboo. Masks can be removed while eating and drinking only.&nbsp\;<br />\n<br />\nMembers and Perspective Members Welcome!
LOCATION:Bamboo Royal Oak 220 S. Main St. Royal Oak\, MI 48067
UID:e.2933.3884
SEQUENCE:3
DTSTAMP:20260424T132317Z
URL:http://royaloakchamber.smartcms.site/events/details/coffee-connection-bamboo-royal-oak-3884
END:VEVENT

END:VCALENDAR
