BEGIN:VCALENDAR
VERSION:2.0
PRODID:-//ChamberMaster//Event Calendar 2.0//EN
METHOD:PUBLISH
X-PUBLISHED-TTL:P3D
REFRESH-INTERVAL:P3D
CALSCALE:GREGORIAN
BEGIN:VEVENT
DTSTART:20211008T120000Z
DTEND:20211008T130000Z
X-MICROSOFT-CDO-ALLDAYEVENT:FALSE
SUMMARY:Coffee Connection- Atelier Studio of Art
DESCRIPTION:Please join us for our October Coffee Connection! We ask that you remember to wear a mask at all times\, unless eating or drinking. We want to be respectful of our host and their requests.\n\n\n\nAll members and perspective members are welcome to join us for networking.
X-ALT-DESC;FMTTYPE=text/html:<span style="font-size:14px\;"><span style="font-family:arial\;">Please join us for our October Coffee Connection!&nbsp\;We ask that you remember to wear a mask at all times\, unless eating or drinking. We want to be respectful of our host and their requests.<br />\n<br />\nAll members and perspective members are welcome to join us for networking.</span></span>
LOCATION:Atelier Studio of Art 407 E. Fourth St. Royal Oak\, MI 48067
UID:e.2933.3845
SEQUENCE:3
DTSTAMP:20260424T203748Z
URL:http://royaloakchamber.smartcms.site/events/details/coffee-connection-atelier-studio-of-art-3845
END:VEVENT

END:VCALENDAR
