BEGIN:VCALENDAR
VERSION:2.0
PRODID:-//ChamberMaster//Event Calendar 2.0//EN
METHOD:PUBLISH
X-PUBLISHED-TTL:P3D
REFRESH-INTERVAL:P3D
CALSCALE:GREGORIAN
BEGIN:VEVENT
DTSTART:20220708T120000Z
DTEND:20220708T130000Z
X-MICROSOFT-CDO-ALLDAYEVENT:FALSE
SUMMARY:Coffee Connection at Clarus Lighting and Controls
DESCRIPTION:Our July Coffee Connection is being hosted by Clarus Lighting and Controls!\n\nAll Members and Members-to-be are invited to join us for morning networking and coffee!
X-ALT-DESC;FMTTYPE=text/html:Our July Coffee Connection is being hosted by Clarus Lighting and Controls!<br />\nAll Members and Members-to-be are invited to join us for morning networking and coffee!
LOCATION:Clarus Lighting and Controls 30775 Barrington St. Madison Heights\, MI 48071
UID:e.2933.4000
SEQUENCE:3
DTSTAMP:20260424T043026Z
URL:http://royaloakchamber.smartcms.site/events/details/coffee-connection-at-clarus-lighting-and-controls-4000
END:VEVENT

END:VCALENDAR
