BEGIN:VCALENDAR
VERSION:2.0
PRODID:-//ChamberMaster//Event Calendar 2.0//EN
METHOD:PUBLISH
X-PUBLISHED-TTL:P3D
REFRESH-INTERVAL:P3D
CALSCALE:GREGORIAN
BEGIN:VEVENT
DTSTART:20210611T120000Z
DTEND:20210611T130000Z
X-MICROSOFT-CDO-ALLDAYEVENT:FALSE
SUMMARY:Coffee & Connect In-Person
DESCRIPTION:Coffee Connection\, we're back in person! Please remember your mask and to social distance when necessary. Registration will close once we have reached our limit of people allowed. If you register and then can't attend\, please let me know so we can open up your spot.
X-ALT-DESC;FMTTYPE=text/html:Coffee Connection\, we&#39\;re back in person! Please remember your mask and to social distance when necessary. Registration will close once we have reached our limit of people allowed. If you register and then can&#39\;t attend\, please let me know so we can open up your spot.&nbsp\;
LOCATION:Village Club of Royal Oak 1132 N. Campbell Rd. Royal Oak\, 48067
UID:e.2933.3789
SEQUENCE:3
DTSTAMP:20260425T035415Z
URL:http://royaloakchamber.smartcms.site/events/details/coffee-connect-in-person-3789
END:VEVENT

END:VCALENDAR
