BEGIN:VCALENDAR
VERSION:2.0
PRODID:-//ChamberMaster//Event Calendar 2.0//EN
METHOD:PUBLISH
X-PUBLISHED-TTL:P3D
REFRESH-INTERVAL:P3D
CALSCALE:GREGORIAN
BEGIN:VEVENT
DTSTART:20210917T120000Z
DTEND:20210917T130000Z
X-MICROSOFT-CDO-ALLDAYEVENT:FALSE
SUMMARY:Coffee & Connect
DESCRIPTION:Please join us for a morning of coffee and connecting!
X-ALT-DESC;FMTTYPE=text/html:Please join us for a morning of coffee and connecting!&nbsp\;
LOCATION:Namaste Yoga Shelter 309 S. Troy Street Royal Oak\, MI 48067
UID:e.2933.3838
SEQUENCE:3
DTSTAMP:20260425T000546Z
URL:http://royaloakchamber.smartcms.site/events/details/coffee-connect-3838
END:VEVENT

END:VCALENDAR
