BEGIN:VCALENDAR
VERSION:2.0
PRODID:-//ChamberMaster//Event Calendar 2.0//EN
METHOD:PUBLISH
X-PUBLISHED-TTL:P3D
REFRESH-INTERVAL:P3D
CALSCALE:GREGORIAN
BEGIN:VEVENT
DTSTART:20210114T150000Z
DTEND:20210114T160000Z
X-MICROSOFT-CDO-ALLDAYEVENT:FALSE
SUMMARY:Changing Careers: New Opportunities\, New Future
DESCRIPTION:Cost: No Charge   How to navigate the basic steps of a career transition   Finding new occupations with bright futures   Handling your finances\, spending and creditors during a career transition
X-ALT-DESC;FMTTYPE=text/html:Cost: No Charge &bull\; How to navigate the basic steps of a career transition &bull\; Finding new occupations with bright futures &bull\; Handling your finances\, spending and creditors during a career transition
LOCATION:Webinar
UID:e.2933.3477
SEQUENCE:3
DTSTAMP:20260425T155947Z
URL:http://royaloakchamber.smartcms.site/events/details/changing-careers-new-opportunities-new-future-3477
END:VEVENT

END:VCALENDAR
