BEGIN:VCALENDAR
VERSION:2.0
PRODID:-//ChamberMaster//Event Calendar 2.0//EN
METHOD:PUBLISH
X-PUBLISHED-TTL:P3D
REFRESH-INTERVAL:P3D
CALSCALE:GREGORIAN
BEGIN:VEVENT
DTSTART:20231212T133000Z
DTEND:20231212T143000Z
X-MICROSOFT-CDO-ALLDAYEVENT:FALSE
SUMMARY:Chamber Exec Committee Meeting
DESCRIPTION:Monthly meeting of the Executive Committee
X-ALT-DESC;FMTTYPE=text/html:Monthly meeting of the Executive Committee
LOCATION:200 S. Washington Avenue\, Royal Oak\, MI 48067
UID:e.2933.1848
SEQUENCE:3
DTSTAMP:20260422T175012Z
URL:http://royaloakchamber.smartcms.site/events/details/chamber-exec-committee-meeting-12-12-2023-1848
END:VEVENT

END:VCALENDAR
