BEGIN:VCALENDAR
VERSION:2.0
PRODID:-//ChamberMaster//Event Calendar 2.0//EN
METHOD:PUBLISH
X-PUBLISHED-TTL:P3D
REFRESH-INTERVAL:P3D
CALSCALE:GREGORIAN
BEGIN:VEVENT
DTSTART:20230711T123000Z
DTEND:20230711T133000Z
X-MICROSOFT-CDO-ALLDAYEVENT:FALSE
SUMMARY:Chamber Exec Committee Meeting
DESCRIPTION:Monthly meeting of the Executive Committee
X-ALT-DESC;FMTTYPE=text/html:Monthly meeting of the Executive Committee
LOCATION:200 S. Washington Avenue\, Royal Oak\, MI 48067
UID:e.2933.1843
SEQUENCE:3
DTSTAMP:20260423T203129Z
URL:http://royaloakchamber.smartcms.site/events/details/chamber-exec-committee-meeting-07-11-2023-1843
END:VEVENT

END:VCALENDAR
