BEGIN:VCALENDAR
VERSION:2.0
PRODID:-//ChamberMaster//Event Calendar 2.0//EN
METHOD:PUBLISH
X-PUBLISHED-TTL:P3D
REFRESH-INTERVAL:P3D
CALSCALE:GREGORIAN
BEGIN:VEVENT
DTSTART:20220111T133000Z
DTEND:20220111T143000Z
X-MICROSOFT-CDO-ALLDAYEVENT:FALSE
SUMMARY:Chamber Exec Committee Meeting
DESCRIPTION:Monthly meeting of the Executive Committee
X-ALT-DESC;FMTTYPE=text/html:Monthly meeting of the Executive Committee
LOCATION:200 S. Washington Avenue\, Royal Oak\, MI 48067
UID:e.2933.1825
SEQUENCE:3
DTSTAMP:20260424T151912Z
URL:http://royaloakchamber.smartcms.site/events/details/chamber-exec-committee-meeting-01-11-2022-1825
END:VEVENT

END:VCALENDAR
