BEGIN:VCALENDAR
VERSION:2.0
PRODID:-//ChamberMaster//Event Calendar 2.0//EN
METHOD:PUBLISH
X-PUBLISHED-TTL:P3D
REFRESH-INTERVAL:P3D
CALSCALE:GREGORIAN
BEGIN:VEVENT
DTSTART:20201009T120000Z
DTEND:20201009T130000Z
X-MICROSOFT-CDO-ALLDAYEVENT:FALSE
SUMMARY:Chamber Coffee -In Person-Luigi's
DESCRIPTION:We're back in-person for a fall Coffee & Connect outside! We hope you'll join us in the tent outside Luigi's. Pick up your coffee on the way over\, Proving Grounds is right next store! Coffee and breakfast will not be served due to COVID restrictions. \n\n\n\n*Masks required.\n\nRSVP required\, please register.
X-ALT-DESC;FMTTYPE=text/html:<span style="font-size:16px\;"><span style="text-align: left\; color: rgb(0\, 0\, 0)\; text-transform: none\; text-indent: 0px\; letter-spacing: normal\; font-family: Arial\,Verdana\,Helvetica\,sans-serif\; font-style: normal\; font-variant: normal\; font-weight: 400\; text-decoration: none\; word-spacing: 0px\; white-space: pre-wrap\; orphans: 2\; -webkit-text-stroke-width: 0px\;">We&#39\;re back</span><span style="text-align: left\; color: rgb(64\, 63\, 66)\; text-transform: none\; text-indent: 0px\; letter-spacing: normal\; font-family: Arial\,Verdana\,Helvetica\,sans-serif\; font-style: normal\; font-variant: normal\; font-weight: 400\; text-decoration: none\; word-spacing: 0px\; white-space: pre-wrap\; orphans: 2\; -webkit-text-stroke-width: 0px\;"> </span><span style="text-align: left\; color: rgb(64\, 63\, 66)\; text-transform: none\; text-indent: 0px\; letter-spacing: normal\; font-family: Arial\,Verdana\,Helvetica\,sans-serif\; font-style: italic\; font-variant: normal\; font-weight: 400\; text-decoration: none\; word-spacing: 0px\; white-space: pre-wrap\; orphans: 2\; -webkit-text-stroke-width: 0px\;">in-person</span><span style="text-align: left\; color: rgb(64\, 63\, 66)\; text-transform: none\; text-indent: 0px\; letter-spacing: normal\; font-family: Arial\,Verdana\,Helvetica\,sans-serif\; font-style: normal\; font-variant: normal\; font-weight: 400\; text-decoration: none\; word-spacing: 0px\; white-space: pre-wrap\; orphans: 2\; -webkit-text-stroke-width: 0px\;"> for a fall Coffee &amp\; Connect outside! We hope you&#39\;ll join us in the tent outside Luigi&#39\;s. Pick up your coffee on the way over\, Proving Grounds is right next store! Coffee and breakfast will not be served due to COVID restrictions. </span><br />\n<br />\n<span style="text-align: left\; color: rgb(64\, 63\, 66)\; text-transform: none\; text-indent: 0px\; letter-spacing: normal\; font-family: Arial\,Verdana\,Helvetica\,sans-serif\; font-style: normal\; font-variant: normal\; font-weight: 400\; text-decoration: none\; word-spacing: 0px\; display: inline !important\; white-space: pre-wrap\; orphans: 2\; float: none\; -webkit-text-stroke-width: 0px\; background-color: rgb(255\, 255\, 255)\;">*Masks required.</span><br />\nRSVP required\, please register.&nbsp\;</span>
LOCATION:Luigi's -outdoor tent on Washington Ave. 415 S. Washington Ave. Royal Oak
UID:e.2933.3310
SEQUENCE:3
DTSTAMP:20260425T175823Z
URL:http://royaloakchamber.smartcms.site/events/details/chamber-coffee-in-person-luigi-s-3310
END:VEVENT

END:VCALENDAR
