BEGIN:VCALENDAR
VERSION:2.0
PRODID:-//ChamberMaster//Event Calendar 2.0//EN
METHOD:PUBLISH
X-PUBLISHED-TTL:P3D
REFRESH-INTERVAL:P3D
CALSCALE:GREGORIAN
BEGIN:VEVENT
DTSTART:20240209T130000Z
DTEND:20240209T140000Z
X-MICROSOFT-CDO-ALLDAYEVENT:FALSE
SUMMARY:Chamber Coffee Connection @ Detroit School of Rock & Pop Music
DESCRIPTION:Royal Oak Chamber Members! You are invited to our February Coffee Connection hosted by Detroit School of Rock & Pop Music! \n\n\n\nWe will have informal networking with coffee & breakfast bites from 8:00-8:30am (provided graciously by our host!). At 8:30am each attendee will have the opportunity to introduce themselves to the group with a 30 second elevator pitch. Be prepared to tell us who you are\, what you're looking for and how you can benefit a company or organization.
X-ALT-DESC;FMTTYPE=text/html:<br />\n<span style="font-size:16px\;"><span background-color:="" style="font-family: sans-serif\, Arial\, Verdana\, " trebuchet="">Royal Oak Chamber Members! You are invited to our February Coffee Connection hosted by Detroit School of Rock &amp\; Pop Music!&nbsp\;</span><br background-color:="" font-size:="" style="color: rgb(51\, 51\, 51)\; font-family: sans-serif\, Arial\, Verdana\, " trebuchet="" />\n<br background-color:="" font-size:="" style="color: rgb(51\, 51\, 51)\; font-family: sans-serif\, Arial\, Verdana\, " trebuchet="" />\n<span background-color:="" style="font-family: sans-serif\, Arial\, Verdana\, " trebuchet="">We will have informal networking with coffee &amp\; breakfast bites from 8:00-8:30am (provided graciously by our host!). At 8:30am each attendee will have the opportunity to introduce themselves to the group with a 30 second elevator pitch. Be prepared to tell us who you are\, what you&#39\;re looking for and how you can&nbsp\;benefit a company or organization.&nbsp\;</span></span>
LOCATION:Detroit School of Rock & Pop Music 1109 S. Washington Avenue Royal Oak\, MI 48067
UID:e.2933.4235
SEQUENCE:3
DTSTAMP:20260422T175046Z
URL:http://royaloakchamber.smartcms.site/events/details/chamber-coffee-connection-detroit-school-of-rock-pop-music-4235
END:VEVENT

END:VCALENDAR
