BEGIN:VCALENDAR
VERSION:2.0
PRODID:-//ChamberMaster//Event Calendar 2.0//EN
METHOD:PUBLISH
X-PUBLISHED-TTL:P3D
REFRESH-INTERVAL:P3D
CALSCALE:GREGORIAN
BEGIN:VEVENT
DTSTART:20200710T130000Z
DTEND:20200710T140000Z
X-MICROSOFT-CDO-ALLDAYEVENT:FALSE
SUMMARY:Chamber Coffee
DESCRIPTION:Join us for our monthly morning Coffee & Connect VIRTUALLY! \n\n\n\nThe Zoom link will be emailed to you on Thursday\, July 9.
X-ALT-DESC;FMTTYPE=text/html:Join us for our monthly morning Coffee &amp\; Connect VIRTUALLY!&nbsp\;<br />\n<br />\nThe Zoom link will be emailed to you on Thursday\, July 9.&nbsp\;
LOCATION:
UID:e.2933.2860
SEQUENCE:3
DTSTAMP:20260425T234641Z
URL:http://royaloakchamber.smartcms.site/events/details/chamber-coffee-07-10-2020-2860
END:VEVENT

END:VCALENDAR
