BEGIN:VCALENDAR
VERSION:2.0
PRODID:-//ChamberMaster//Event Calendar 2.0//EN
METHOD:PUBLISH
X-PUBLISHED-TTL:P3D
REFRESH-INTERVAL:P3D
CALSCALE:GREGORIAN
BEGIN:VEVENT
DTSTART:20201113T130000Z
DTEND:20201113T140000Z
X-MICROSOFT-CDO-ALLDAYEVENT:FALSE
SUMMARY:Chamber Coffee
DESCRIPTION:We're back in-person again for our November Coffee & Connect\, outside! We hope you'll join us in the tent outside Oak City Grille (212 W. Sixth St.). Please RSVP\, space is limited and masks are required. Due to COVID restrictions we will not be serving coffee or food. Grab a coffee on your way!
X-ALT-DESC;FMTTYPE=text/html:<font face="Arial\,Verdana\,Helvetica\,sans-serif"><span style="text-align: left\; color: rgb(0\, 0\, 0)\; text-transform: none\; text-indent: 0px\; letter-spacing: normal\; font-size: 16px\; font-style: normal\; font-variant: normal\; font-weight: 400\; text-decoration: none\; word-spacing: 0px\; white-space: pre-wrap\; orphans: 2\; -webkit-text-stroke-width: 0px\;">We&#39\;re back</span><span style="text-align: left\; color: rgb(64\, 63\, 66)\; text-transform: none\; text-indent: 0px\; letter-spacing: normal\; font-size: 16px\; font-style: normal\; font-variant: normal\; font-weight: 400\; text-decoration: none\; word-spacing: 0px\; white-space: pre-wrap\; orphans: 2\; -webkit-text-stroke-width: 0px\;"> </span><span style="text-align: left\; color: rgb(64\, 63\, 66)\; text-transform: none\; text-indent: 0px\; letter-spacing: normal\; font-size: 16px\; font-style: italic\; font-variant: normal\; font-weight: 400\; text-decoration: none\; word-spacing: 0px\; white-space: pre-wrap\; orphans: 2\; -webkit-text-stroke-width: 0px\;">in-person again</span><span style="text-align: left\; color: rgb(64\, 63\, 66)\; text-transform: none\; text-indent: 0px\; letter-spacing: normal\; font-size: 16px\; font-style: normal\; font-variant: normal\; font-weight: 400\; text-decoration: none\; word-spacing: 0px\; white-space: pre-wrap\; orphans: 2\; -webkit-text-stroke-width: 0px\;"> for our November Coffee &amp\; Connect\, outside! We hope you&#39\;ll join us in the tent outside Oak City Grille (</span><span style="text-align: left\; color: rgb(64\, 63\, 66)\; text-transform: none\; text-indent: 0px\; letter-spacing: normal\; font-size: 16px\; font-style: normal\; font-variant: normal\; font-weight: 400\; text-decoration: none\; word-spacing: 0px\; white-space: pre-wrap\; orphans: 2\; -webkit-text-stroke-width: 0px\;">212 W. Sixth St.</span><span style="text-align: left\; color: rgb(64\, 63\, 66)\; text-transform: none\; text-indent: 0px\; letter-spacing: normal\; font-size: 16px\; font-style: normal\; font-variant: normal\; font-weight: 400\; text-decoration: none\; word-spacing: 0px\; white-space: pre-wrap\; orphans: 2\; -webkit-text-stroke-width: 0px\;">). <b>Please RSVP</b>\, <strong>s</strong></span><span style="text-align: left\; color: rgb(64\, 63\, 66)\; text-transform: none\; text-indent: 0px\; letter-spacing: normal\; font-size: 16px\; font-style: normal\; font-variant: normal\; text-decoration: none\; word-spacing: 0px\; white-space: pre-wrap\; orphans: 2\; -webkit-text-stroke-width: 0px\;"><b>pace is limited and masks are required. Due to COVID restrictions we will not be serving coffee or food. Grab a coffee on your way!</b></span></font>
LOCATION:Oak City Grille (Outdoor Tent-heaters will be on if it's cold) 212 W. 6th St. Royal Oak\, 48067
UID:e.2933.2858
SEQUENCE:3
DTSTAMP:20260425T161205Z
URL:http://royaloakchamber.smartcms.site/events/details/chamber-coffee-05-08-2020-2858
END:VEVENT

END:VCALENDAR
