BEGIN:VCALENDAR
VERSION:2.0
PRODID:-//ChamberMaster//Event Calendar 2.0//EN
METHOD:PUBLISH
X-PUBLISHED-TTL:P3D
REFRESH-INTERVAL:P3D
CALSCALE:GREGORIAN
BEGIN:VEVENT
DTSTART:20221211T180000Z
DTEND:20221211T220000Z
X-MICROSOFT-CDO-ALLDAYEVENT:FALSE
SUMMARY:Chamber Appreciation Day at Ford Field
DESCRIPTION:Attention Madison Heights/Hazel Park\, Royal Oak\, Clawson\, and Berkley Chambers! The Lions are excited to offer all chamber members special savings on single game tickets for our Chamber Appreciation Event.\n\n \n\nTickets include a light food and beverage tailgate in our Gridiron Club during pregame\, as an opportunity to network with other chamber members.\n\n \n\nOnce you complete your purchase\, directions on how to access your tickets through the Lions mobile app will be sent to your email address provided. If you would like to be seated together\, please purchase together!\n\n \n\nOffer is for a limited time only\, subject to availability\, has no cash value\, is not valid on previously purchased tickets and is not good in conjunction with any other promotional offer. All sales are final and there are no refunds or cancellations. The Detroit Lions reserve the right to restrict or cancel orders. Please note that tickets purchased through this offer are restricted from resale\n\n \n\nIf you have any questions or would like assistance purchasing your tickets\, please contact Brian Nordstrom at 313-262-2213 or brian.nordstrom@Lions.nfl.net.\n\n\n\nRegister at: Detroit Lions vs. Minnesota Vikings - MHHP\, Royal Oak\, Clawson\, and Berkley Chambers (fevo.com)
X-ALT-DESC;FMTTYPE=text/html:<p style="box-sizing: border-box\; margin: 0px\; padding: 0px\; color: rgb(33\, 32\, 31)\; font-family: MarkOT\, Helvetica\, arial\; font-size: 14px\;">Attention Madison Heights/Hazel Park\, Royal Oak\, Clawson\, and Berkley Chambers! The Lions are excited to offer all chamber members special savings on single game tickets for our Chamber Appreciation Event.</p>\n\n<p style="box-sizing: border-box\; margin: 0px\; padding: 0px\; color: rgb(33\, 32\, 31)\; font-family: MarkOT\, Helvetica\, arial\; font-size: 14px\;">&nbsp\;</p>\n\n<p style="box-sizing: border-box\; margin: 0px\; padding: 0px\; color: rgb(33\, 32\, 31)\; font-family: MarkOT\, Helvetica\, arial\; font-size: 14px\;">Tickets include a light food and beverage tailgate in our Gridiron Club during pregame\, as an opportunity to network with other chamber members.</p>\n\n<p style="box-sizing: border-box\; margin: 0px\; padding: 0px\; color: rgb(33\, 32\, 31)\; font-family: MarkOT\, Helvetica\, arial\; font-size: 14px\;">&nbsp\;</p>\n\n<p style="box-sizing: border-box\; margin: 0px\; padding: 0px\; color: rgb(33\, 32\, 31)\; font-family: MarkOT\, Helvetica\, arial\; font-size: 14px\;">Once you complete your purchase\, directions on how to access your tickets through the Lions mobile app will be sent to your email address provided. If you would like to be seated together\, please purchase together!</p>\n\n<p style="box-sizing: border-box\; margin: 0px\; padding: 0px\; color: rgb(33\, 32\, 31)\; font-family: MarkOT\, Helvetica\, arial\; font-size: 14px\;">&nbsp\;</p>\n\n<p style="box-sizing: border-box\; margin: 0px\; padding: 0px\; color: rgb(33\, 32\, 31)\; font-family: MarkOT\, Helvetica\, arial\; font-size: 14px\;"><strong style="box-sizing: border-box\; margin: 0px\; padding: 0px\;">Offer is for a limited time only\, subject to availability\, has no cash value\, is not valid on previously purchased tickets and is not good in conjunction with any other promotional offer. All sales are final and there are no refunds or cancellations. The Detroit Lions reserve the right to restrict or cancel orders. Please note that tickets purchased through this offer are restricted from resale</strong></p>\n\n<p style="box-sizing: border-box\; margin: 0px\; padding: 0px\; color: rgb(33\, 32\, 31)\; font-family: MarkOT\, Helvetica\, arial\; font-size: 14px\;">&nbsp\;</p>\n\n<p style="box-sizing: border-box\; margin: 0px\; padding: 0px\; color: rgb(33\, 32\, 31)\; font-family: MarkOT\, Helvetica\, arial\; font-size: 14px\;">If you have any questions or would like assistance purchasing your tickets\, please contact Brian Nordstrom at&nbsp\;313-262-2213 or brian.nordstrom@Lions.nfl.net.<br />\n<br />\n<span style="font-size:16px\;"><strong>Register at</strong>:&nbsp\;<a href="https://offer.fevo.com/detroit-lions-vs-minnesota-vikings-rvw9wad-cbdb1c7?fevoUri=detroit-lions-vs-minnesota-vikings-rvw9wad-cbdb1c7%2F">Detroit Lions vs. Minnesota Vikings - MHHP\, Royal Oak\, Clawson\, and Berkley Chambers (fevo.com)</a></span></p>\n
LOCATION:Ford Field 2000 Brush Street Detroit\, MI 48226
UID:e.2933.4037
SEQUENCE:3
DTSTAMP:20260424T100510Z
URL:http://royaloakchamber.smartcms.site/events/details/chamber-appreciation-day-at-ford-field-4037
END:VEVENT

END:VCALENDAR
