BEGIN:VCALENDAR
VERSION:2.0
PRODID:-//ChamberMaster//Event Calendar 2.0//EN
METHOD:PUBLISH
X-PUBLISHED-TTL:P3D
REFRESH-INTERVAL:P3D
CALSCALE:GREGORIAN
BEGIN:VEVENT
DTSTART:20210902T190000Z
DTEND:20210902T220000Z
X-MICROSOFT-CDO-ALLDAYEVENT:FALSE
SUMMARY:Century 21 Curran & Oberski -Ribbon Cutting & Open House
DESCRIPTION:Please join us for an Open House and Ribbon Cutting Ceremony for Century 21 Curran & Oberski. The Open House will go from 3:00-6:00PM. Ribbon Cutting at 5:00PM!
X-ALT-DESC;FMTTYPE=text/html:Please join us for an Open House and Ribbon Cutting Ceremony for Century 21 Curran &amp\; Oberski. The Open House will go from 3:00-6:00PM. Ribbon Cutting at 5:00PM!&nbsp\;
LOCATION:Century 21 Curran & Oberski 32121 Woodward Ave.\, Ste 100 Royal Oak\, MI 48073
UID:e.2933.3824
SEQUENCE:3
DTSTAMP:20260424T222637Z
URL:http://royaloakchamber.smartcms.site/events/details/century-21-curran-oberski-ribbon-cutting-open-house-3824
END:VEVENT

END:VCALENDAR
