BEGIN:VCALENDAR
VERSION:2.0
PRODID:-//ChamberMaster//Event Calendar 2.0//EN
METHOD:PUBLISH
X-PUBLISHED-TTL:P3D
REFRESH-INTERVAL:P3D
CALSCALE:GREGORIAN
BEGIN:VEVENT
DTSTART:20200812T130000Z
DTEND:20200812T150000Z
X-MICROSOFT-CDO-ALLDAYEVENT:FALSE
SUMMARY:CEED Lending Small Business Loan Orientation
DESCRIPTION:Have a need for alternative financing for your business and it's located in Oakland County? Consider learning more about the CEED Lending Small Business Loan Program. Discover how to apply for and obtain a small business loan. If you are interested in alternative financing for your Oakland County small business\, then the CEED Lending Small Business Orientation is for you. CEED Lending is an initiative of the Great Lakes Women's Business Council. This workshop is designed to help existing and startup businesses. Cost: Free | Registration Required
X-ALT-DESC;FMTTYPE=text/html:Have a need for alternative financing for your business and it&rsquo\;s located in Oakland County? Consider learning more about the CEED Lending Small Business Loan Program. Discover how to apply for and obtain a small business loan. If you are interested in alternative financing for your Oakland County small business\, then the CEED Lending Small Business Orientation is for you. CEED Lending is an initiative of the Great Lakes Women&rsquo\;s Business Council. This workshop is designed to help existing and startup businesses. Cost: Free | Registration Required
LOCATION:Webinar
UID:e.2933.3345
SEQUENCE:3
DTSTAMP:20260426T004151Z
URL:http://royaloakchamber.smartcms.site/events/details/ceed-lending-small-business-loan-orientation-3345
END:VEVENT

END:VCALENDAR
