BEGIN:VCALENDAR
VERSION:2.0
PRODID:-//ChamberMaster//Event Calendar 2.0//EN
METHOD:PUBLISH
X-PUBLISHED-TTL:P3D
REFRESH-INTERVAL:P3D
CALSCALE:GREGORIAN
BEGIN:VEVENT
DTSTART:20200909T130000Z
DTEND:20200909T150000Z
X-MICROSOFT-CDO-ALLDAYEVENT:FALSE
SUMMARY:CEED Lending Small Business Loan Orientation
DESCRIPTION:If your business is in Oakland County and you need alternative financing\, consider a CEED Lending Small Business Loan. The workshop introduces you to the requirements and process necessary to qualify for a CEED loan. CEED Lending is an initiative of Great Lakes Women's Business Council.
X-ALT-DESC;FMTTYPE=text/html:If your business is in Oakland County and you need alternative financing\, consider a CEED Lending Small Business Loan. The workshop introduces you to the requirements and process necessary to qualify for a CEED loan. CEED Lending is an initiative of Great Lakes Women&rsquo\;s Business Council.
LOCATION:Webinar
UID:e.2933.3359
SEQUENCE:3
DTSTAMP:20260425T231326Z
URL:http://royaloakchamber.smartcms.site/events/details/ceed-lending-small-business-loan-orientation-09-09-2020-3359
END:VEVENT

END:VCALENDAR
