BEGIN:VCALENDAR
VERSION:2.0
PRODID:-//ChamberMaster//Event Calendar 2.0//EN
METHOD:PUBLISH
X-PUBLISHED-TTL:P3D
REFRESH-INTERVAL:P3D
CALSCALE:GREGORIAN
BEGIN:VEVENT
DTSTART:20201113T150000Z
DTEND:20201113T160000Z
X-MICROSOFT-CDO-ALLDAYEVENT:FALSE
SUMMARY:Career Vision Board: Showcase your Interest\, Skills\, and Goals!
DESCRIPTION:Get an intro into the function of vision boards Get warmed up with a few creative exercises Gain clarity around what YOU want in your career Create your very own career vision board out of inspiring materials to display at home Multiple sessions to choose from. The workshops will be recorded so people can view them at a later date at OaklandCountyMIWorks.com.
X-ALT-DESC;FMTTYPE=text/html:Get an intro into the function of vision boards Get warmed up with a few creative exercises Gain clarity around what YOU want in your career Create your very own career vision board out of inspiring materials to display at home Multiple sessions to choose from. The workshops will be recorded so people can view them at a later date at OaklandCountyMIWorks.com.
LOCATION:Online Event
UID:e.2933.3415
SEQUENCE:3
DTSTAMP:20260425T192658Z
URL:http://royaloakchamber.smartcms.site/events/details/career-vision-board-showcase-your-interest-skills-and-goals-11-13-2020-3415
END:VEVENT

END:VCALENDAR
