BEGIN:VCALENDAR
VERSION:2.0
PRODID:-//ChamberMaster//Event Calendar 2.0//EN
METHOD:PUBLISH
X-PUBLISHED-TTL:P3D
REFRESH-INTERVAL:P3D
CALSCALE:GREGORIAN
BEGIN:VEVENT
DTSTART:20210108T150000Z
DTEND:20210108T160000Z
X-MICROSOFT-CDO-ALLDAYEVENT:FALSE
SUMMARY:Career Vision Board: Showcase your Interest\, Skills\, and Goals!
DESCRIPTION:Cost: No Charge   Get an intro into the function of vision boards   Get warmed up with a few creative exercises   Gain clarity around what YOU want in your career   Create your very own career vision board out of inspiring materials to display at home
X-ALT-DESC;FMTTYPE=text/html:Cost: No Charge &bull\; Get an intro into the function of vision boards &bull\; Get warmed up with a few creative exercises &bull\; Gain clarity around what YOU want in your career &bull\; Create your very own career vision board out of inspiring materials to display at home
LOCATION:Webinar
UID:e.2933.3479
SEQUENCE:3
DTSTAMP:20260425T160039Z
URL:http://royaloakchamber.smartcms.site/events/details/career-vision-board-showcase-your-interest-skills-and-goals-01-08-2021-3479
END:VEVENT

END:VCALENDAR
