BEGIN:VCALENDAR
VERSION:2.0
PRODID:-//ChamberMaster//Event Calendar 2.0//EN
METHOD:PUBLISH
X-PUBLISHED-TTL:P3D
REFRESH-INTERVAL:P3D
CALSCALE:GREGORIAN
BEGIN:VEVENT
DTSTART:20220616T160000Z
DTEND:20220616T163000Z
X-MICROSOFT-CDO-ALLDAYEVENT:FALSE
SUMMARY:CANCELED Ribbon Cutting Nautical Bowls
DESCRIPTION:Join us for a Ribbon Cutting Ceremony to celebrate the Grand Opening of Nautical Bowls!
X-ALT-DESC;FMTTYPE=text/html:Join us for a Ribbon Cutting Ceremony to celebrate the Grand Opening of Nautical Bowls!
LOCATION:30955 Woodward Ave. Ste. 425 Royal Oak\, MI 48073
UID:e.2933.3997
SEQUENCE:3
DTSTAMP:20260424T062102Z
URL:http://royaloakchamber.smartcms.site/events/details/canceled-ribbon-cutting-nautical-bowls-3997
END:VEVENT

END:VCALENDAR
