BEGIN:VCALENDAR
VERSION:2.0
PRODID:-//ChamberMaster//Event Calendar 2.0//EN
METHOD:PUBLISH
X-PUBLISHED-TTL:P3D
REFRESH-INTERVAL:P3D
CALSCALE:GREGORIAN
BEGIN:VEVENT
DTSTART:20210325T130000Z
DTEND:20210325T140000Z
X-MICROSOFT-CDO-ALLDAYEVENT:FALSE
SUMMARY:BWN Webinar: Celebrating Woman's History Month
DESCRIPTION:Money Challenges & Opportunities for Woman Right Now\n\n\n\nJoin BWN Board Member\, Rebecca Mennen (AQuest Wealth Strategies)\, as she leads a discussion and webinar to celebrate Women's History Month. \n\n \n\nFrom the pink tax to lifespans to getting credit cards in 1974 and 82 cents to the dollar\, we'll cover the history and mystery of it all. We'll look at how we got from there to here. We've come a long way\, ladies. But there's still much more work to do.\n\n\n\nThe Zoom link will be emailed on Wednesday\, March 24.
X-ALT-DESC;FMTTYPE=text/html:<br />\n<span style="font-size:16px\;"><span style="font-family:arial\;"><strong><span style="font-size:18px\;"><span style="text-align: left\; color: rgb(34\, 34\, 34)\; text-transform: none\; text-indent: 0px\; letter-spacing: normal\; font-style: normal\; font-variant: normal\; font-weight: 400\; text-decoration: none\; word-spacing: 0px\; display: inline !important\; white-space: normal\; orphans: 2\; float: none\; -webkit-text-stroke-width: 0px\;">Money Challenges &amp\; Opportunities for Woman Right Now</span></span></strong><br />\n<br />\nJoin BWN Board Member\, Rebecca Mennen (AQuest Wealth Strategies)\, as she leads a discussion and webinar to celebrate Women&#39\;s History Month.&nbsp\;</span></span><br />\n&nbsp\;<br />\n<span style="font-size:16px\;"><span style="font-family:arial\;"><span style="color:#222222\;">From the pink tax to lifespans to getting credit cards in 1974 and 82 cents to the dollar\, we&rsquo\;ll cover the history and mystery of it all. We&rsquo\;ll look at how we got from there to here.<font color="#001000"> </font></span><span style="color:#222222\;">We&rsquo\;ve come a long way\, ladies. But there&rsquo\;s still much more work to do.<br />\n<br />\nThe Zoom link will be emailed on Wednesday\, March 24.&nbsp\;</span></span></span><br />\n&nbsp\;<br />\n<br />\n<br />\n&nbsp\;
LOCATION:Virtual
UID:e.2933.3510
SEQUENCE:3
DTSTAMP:20260425T110745Z
URL:http://royaloakchamber.smartcms.site/events/details/bwn-webinar-celebrating-woman-s-history-month-3510
END:VEVENT

END:VCALENDAR
