BEGIN:VCALENDAR
VERSION:2.0
PRODID:-//ChamberMaster//Event Calendar 2.0//EN
METHOD:PUBLISH
X-PUBLISHED-TTL:P3D
REFRESH-INTERVAL:P3D
CALSCALE:GREGORIAN
BEGIN:VEVENT
DTSTART:20231102T220000Z
DTEND:20231103T000000Z
X-MICROSOFT-CDO-ALLDAYEVENT:FALSE
SUMMARY:BWN Vonnie's Legacy Fashion Show
DESCRIPTION:Join us for an energetic fashion tribute honoring Vonnie Miller\, a Royal Oak Chamber icon. The BWN board and chamber members will be modeling exclusive looks from Leon & Lulu. Registration is limited to 50 people. Sign up today to reserve your spot HERE.\n6:00-6:30PM\n\nFood\, Drinks & Networking\n\n6:30-7:00PM\n\nFashion Show\n\n7:00-8:00PM\n\nNetworking & Shopping
X-ALT-DESC;FMTTYPE=text/html:<span style="font-size:18px\;"><span style="color: rgb(0\, 0\, 0)\; font-family: &quot\;Century Gothic&quot\;\, Calibri\, Helvetica\, Arial\, sans-serif\;">Join us for an energetic fashion tribute honoring Vonnie Miller\, a Royal Oak Chamber icon. The BWN board and chamber members will be modeling exclusive looks from Leon &amp\; Lulu.&nbsp\;</span></span><span style="color: rgb(0\, 0\, 0)\; font-family: &quot\;Century Gothic&quot\;\, Calibri\, Helvetica\, Arial\, sans-serif\; font-style: italic\; font-size: 18px\;">Registration is limited to 50 people.&nbsp\;</span><span style="color: rgb(0\, 0\, 0)\; font-family: &quot\;Century Gothic&quot\;\, Calibri\, Helvetica\, Arial\, sans-serif\; font-style: italic\; font-size: 18px\;">Sign up today to reserve your spot </span><span style="font-size:24px\;"><a href="https://events.r20.constantcontact.com/register/eventReg?oeidk=a07ek16q2lbb9ee6ad4&amp\;oseq=&amp\;c=&amp\;ch="><span style="color:#FF0000\;"><span style="font-family: &quot\;Century Gothic&quot\;\, Calibri\, Helvetica\, Arial\, sans-serif\; font-style: italic\;">HERE</span></span></a>.</span>\n<p style="margin: 0px\; padding: 0px\; color: rgb(255\, 255\, 255)\; font-family: Arial\, Verdana\, Helvetica\, sans-serif\; font-size: 12px\;"><span style="font-size:18px\;"><span style="color: rgb(220\, 30\, 8)\; font-family: &quot\;Century Gothic&quot\;\, Calibri\, Helvetica\, Arial\, sans-serif\; font-weight: bold\;">6:00-6:30PM</span></span></p>\n\n<p style="margin: 0px\; padding: 0px\; color: rgb(255\, 255\, 255)\; font-family: Arial\, Verdana\, Helvetica\, sans-serif\; font-size: 12px\;"><span style="font-size:18px\;"><span style="color: rgb(0\, 0\, 0)\; font-family: &quot\;Century Gothic&quot\;\, Calibri\, Helvetica\, Arial\, sans-serif\;">Food\, Drinks &amp\; Networking</span></span></p>\n\n<p style="margin: 0px\; padding: 0px\; color: rgb(255\, 255\, 255)\; font-family: Arial\, Verdana\, Helvetica\, sans-serif\; font-size: 12px\;"><span style="font-size:18px\;"><span style="font-family: &quot\;Century Gothic&quot\;\, Calibri\, Helvetica\, Arial\, sans-serif\; font-weight: bold\; color: rgb(220\, 30\, 8)\;">6:30-7:00PM</span></span></p>\n\n<p style="margin: 0px\; padding: 0px\; color: rgb(255\, 255\, 255)\; font-family: Arial\, Verdana\, Helvetica\, sans-serif\; font-size: 12px\;"><span style="font-size:18px\;"><span style="color: rgb(0\, 0\, 0)\; font-family: &quot\;Century Gothic&quot\;\, Calibri\, Helvetica\, Arial\, sans-serif\;">Fashion Show</span></span></p>\n\n<p style="margin: 0px\; padding: 0px\; color: rgb(255\, 255\, 255)\; font-family: Arial\, Verdana\, Helvetica\, sans-serif\; font-size: 12px\;"><span style="font-size:18px\;"><span style="font-family: &quot\;Century Gothic&quot\;\, Calibri\, Helvetica\, Arial\, sans-serif\; font-weight: bold\; color: rgb(220\, 30\, 8)\;">7:00-8:00PM</span></span></p>\n\n<p style="margin: 0px\; padding: 0px\; color: rgb(255\, 255\, 255)\; font-family: Arial\, Verdana\, Helvetica\, sans-serif\; font-size: 12px\;"><span style="font-size:18px\;"><span style="color: rgb(0\, 0\, 0)\; font-family: &quot\;Century Gothic&quot\;\, Calibri\, Helvetica\, Arial\, sans-serif\;">Networking &amp\; Shopping</span></span></p>\n\n<p style="margin: 0px\; padding: 0px\; color: rgb(255\, 255\, 255)\; font-family: Arial\, Verdana\, Helvetica\, sans-serif\; font-size: 12px\;">&nbsp\;</p>\n\n<p style="margin: 0px\; padding: 0px\; color: rgb(255\, 255\, 255)\; font-family: Arial\, Verdana\, Helvetica\, sans-serif\; font-size: 12px\;">&nbsp\;</p>\n
LOCATION:Leon & Lulu 96 W. 14 Mile Rd. Clawson\, MI 48017
UID:e.2933.4202
SEQUENCE:3
DTSTAMP:20260422T193635Z
URL:http://royaloakchamber.smartcms.site/events/details/bwn-vonnie-s-legacy-fashion-show-4202
END:VEVENT

END:VCALENDAR
