BEGIN:VCALENDAR
VERSION:2.0
PRODID:-//ChamberMaster//Event Calendar 2.0//EN
METHOD:PUBLISH
X-PUBLISHED-TTL:P3D
REFRESH-INTERVAL:P3D
CALSCALE:GREGORIAN
BEGIN:VEVENT
DTSTART:20211117T161500Z
DTEND:20211117T180000Z
X-MICROSOFT-CDO-ALLDAYEVENT:FALSE
SUMMARY:BWN November Luncheon
DESCRIPTION:You're invited to our BWN November Lunch!\n\n\n\nPeter Boyse\, from Richard J Boyse CPA will be joining us\; talking about taxes and prepping for the upcoming year end! He will be able to touch on tax savings moves for individuals and business as well (hopefully) giving some insight into what the new administration is going to mean for tax rates. Peter will be here to answer any questions or discuss topics that you may be interested in! In the registration form\, please feel free to give us a question or topic you might want to hear!\n\n \nPlease join us! Register HERE!\n\n \n\nWednesday\, November 17th: Networking will begin at 11:15am\, Lunch will be Served at 11:45am and Program will begin promptly at 12pm.\n\n \n\nDon't forget your business cards or fliers and be prepared to give a 30 second promotional message about your business! Why not invite your friend or coworker who would also enjoy a networking opportunity?
X-ALT-DESC;FMTTYPE=text/html:<span style="color: rgb(64\, 63\, 66)\; font-family: Calibri\, Helvetica\, Arial\, sans-serif\; font-size: 16px\; background-color: rgb(255\, 255\, 255)\;">You&#39\;re invited to our BWN November Lunch!<br />\n<br />\nPeter Boyse\, from Richard J Boyse CPA will be joining us\; talking about taxes and prepping for the upcoming&nbsp\;year end! He will be able to touch on tax savings moves for individuals and business as well (hopefully) giving some insight into what the new administration is going to mean for tax rates. Peter will be here to answer any questions or discuss topics that you may be interested in! In the registration form\, please feel free to give us a question or topic you might want to hear!</span><br />\n&nbsp\;\n<div style="color: rgb(64\, 63\, 66)\; font-family: Arial\, Verdana\, Helvetica\, sans-serif\; font-size: 12px\; background-color: rgb(255\, 255\, 255)\;"><span style="font-size:16px\;"><span style="font-family:arial\;">Please join us!&nbsp\;<span style="color: rgb(0\, 128\, 0)\; background-color: rgb(255\, 255\, 255)\;">Register&nbsp\;</span><u><a href="https://events.r20.constantcontact.com/register/eventReg?oeidk=a07eirhnoh6ed142a19&amp\;oseq=&amp\;c=&amp\;ch=" style="color: rgb(7\, 130\, 193)\; font-family: sans-serif\, Arial\, Verdana\, &quot\;Trebuchet MS&quot\;\; font-size: 20px\; background-color: rgb(255\, 255\, 255)\;"><span style="color:#008000\;">HERE!</span></a></u></span></span></div>\n\n<div style="color: rgb(64\, 63\, 66)\; font-family: Arial\, Verdana\, Helvetica\, sans-serif\; font-size: 12px\; background-color: rgb(255\, 255\, 255)\;">&nbsp\;</div>\n\n<div style="color: rgb(64\, 63\, 66)\; font-family: Arial\, Verdana\, Helvetica\, sans-serif\; font-size: 12px\; background-color: rgb(255\, 255\, 255)\;"><span style="font-size: 16px\; font-family: Calibri\, Helvetica\, Arial\, sans-serif\;">Wednesday\, November 17th: Networking will begin at 11:15am\,&nbsp\;Lunch will be Served at 11:45am and Program will begin promptly at 12pm.</span></div>\n\n<div style="color: rgb(64\, 63\, 66)\; font-family: Arial\, Verdana\, Helvetica\, sans-serif\; font-size: 12px\; background-color: rgb(255\, 255\, 255)\;">&nbsp\;</div>\n\n<div style="color: rgb(64\, 63\, 66)\; font-family: Arial\, Verdana\, Helvetica\, sans-serif\; font-size: 12px\; background-color: rgb(255\, 255\, 255)\;"><span style="font-size: 16px\; color: rgb(71\, 155\, 70)\; font-style: italic\; font-family: &quot\;Franklin Gothic Medium&quot\;\, Arial\, Helvetica\, sans-serif\;">Don&#39\;t forget your business cards or fliers and be prepared to give a&nbsp\;30 second promotional message about your business! Why not invite your friend or coworker who would also enjoy a networking opportunity?</span></div>\n
LOCATION:Bar Louie 510 S. Main St. Royal Oak\, MI 48067
UID:e.2933.3860
SEQUENCE:3
DTSTAMP:20260424T184928Z
URL:http://royaloakchamber.smartcms.site/events/details/bwn-november-luncheon-3860
END:VEVENT

END:VCALENDAR
