BEGIN:VCALENDAR
VERSION:2.0
PRODID:-//ChamberMaster//Event Calendar 2.0//EN
METHOD:PUBLISH
X-PUBLISHED-TTL:P3D
REFRESH-INTERVAL:P3D
CALSCALE:GREGORIAN
BEGIN:VEVENT
DTSTART:20220519T151500Z
DTEND:20220519T170000Z
X-MICROSOFT-CDO-ALLDAYEVENT:FALSE
SUMMARY:BWN May Luncheon
DESCRIPTION:Join the Royal Oak Business Women's Network for a luncheon at The Rock on Third.  Share your 30 second business commercial. Our presenter will be Ngoc Do of Vibe Credit Union. \n\n\n\nRegister HERE!!
X-ALT-DESC;FMTTYPE=text/html:<span style="font-size:16px\;">Join the Royal Oak Business Women&#39\;s Network for a luncheon at The Rock on Third.&nbsp\; Share your 30 second business commercial. Our presenter will be Ngoc Do of Vibe Credit Union.&nbsp\;</span><br />\n<br />\n<strong><span style="font-size:18px\;">Register <a href="https://events.r20.constantcontact.com/register/eventReg?oeidk=a07ej6m5lwm7283af44&amp\;oseq=&amp\;c=&amp\;ch=">HERE!!&nbsp\;</a></span></strong>
LOCATION:The Rock on Third 112 E. 3rd St. Royal Oak\, MI
UID:e.2933.3986
SEQUENCE:3
DTSTAMP:20260424T094253Z
URL:http://royaloakchamber.smartcms.site/events/details/bwn-may-luncheon-3986
END:VEVENT

END:VCALENDAR
