BEGIN:VCALENDAR
VERSION:2.0
PRODID:-//ChamberMaster//Event Calendar 2.0//EN
METHOD:PUBLISH
X-PUBLISHED-TTL:P3D
REFRESH-INTERVAL:P3D
CALSCALE:GREGORIAN
BEGIN:VEVENT
DTSTART:20220420T151500Z
DTEND:20220420T170000Z
X-MICROSOFT-CDO-ALLDAYEVENT:FALSE
SUMMARY:BWN March Luncheon-Jim Brady's Detroit
DESCRIPTION:You're invited to BWN's April Luncheon at Jim Brady's!\n\n\n\nWe will continue to celebrate Women in Business for April\, so we will be highlighting Rene Schovan from Rene's Hair Shoppe/Salon. Join us to hear about how she got started!\n\n \n\nWednesday\, April 20th: Networking will begin at 11:15am\, Lunch will be Served at 11:45am and Program will begin promptly at 12pm. Program will last until about 1:00pm.\n\n\n\nRegister HERE
X-ALT-DESC;FMTTYPE=text/html:<br />\n<span style="font-size:16px\;"><span style="font-family:arial\;">You&#39\;re invited to BWN&#39\;s April Luncheon at Jim Brady&#39\;s!<br />\n<br />\n<span style="color:#403F42\;">We will continue to celebrate Women in Business for April\, so we will be highlighting Rene Schovan from Rene&#39\;s Hair Shoppe/Salon. Join us to hear about how she got started!</span><br />\n&nbsp\;<br />\n<span style="color:#403F42\;">Wednesday\, April 20th: Networking will begin at 11:15am\,&nbsp\;Lunch will be Served at 11:45am and Program will begin promptly at 12pm. Program will last until about 1:00pm.<br />\n<br />\n<span style="font-size:18px\;">Register <a href="https://events.r20.constantcontact.com/register/eventReg?oeidk=a07ej4sw65t5426c131&amp\;oseq=&amp\;c=&amp\;ch=">HERE</a></span></span></span></span><br />\n<br />\n&nbsp\;
LOCATION:Jim Brady's Detroit 1214 S. Main St. Royal Oak\, MI 48067
UID:e.2933.3973
SEQUENCE:3
DTSTAMP:20260424T094458Z
URL:http://royaloakchamber.smartcms.site/events/details/bwn-march-luncheon-jim-brady-s-detroit-3973
END:VEVENT

END:VCALENDAR
