BEGIN:VCALENDAR
VERSION:2.0
PRODID:-//ChamberMaster//Event Calendar 2.0//EN
METHOD:PUBLISH
X-PUBLISHED-TTL:P3D
REFRESH-INTERVAL:P3D
CALSCALE:GREGORIAN
BEGIN:VEVENT
DTSTART:20230315T151500Z
DTEND:20230315T170000Z
X-MICROSOFT-CDO-ALLDAYEVENT:FALSE
SUMMARY:BWN -MAKING A NAME: Conversations with Women in Business
DESCRIPTION:You're invited to our Business Womens Network March Luncheon!\n\n\n\nJoin us at the cafe inside Woodward Corner Market for networking\, lunch\, and speaker presentations from 4 women in business! Discover how they came up in their industry\, their struggles\, and personal stories that lead them to where they are today. Lunch provided by Great Lakes Pot Pies. Networking starts at 11:00am\, Lunch at 11:15am and speakers from 11:45am-1:00pm. \n\n\n\nPlease register HERE!
X-ALT-DESC;FMTTYPE=text/html:<p style="background: rgb(238\, 238\, 238)\; border: 1px solid rgb(204\, 204\, 204)\; padding: 5px 10px\;"><span style="font-size:16px\;">You&#39\;re invited to our Business Womens Network March Luncheon!<br />\n<br />\nJoin us at the cafe inside Woodward Corner Market for networking\, lunch\, and speaker presentations from 4 women in business! Discover how they came up in their industry\, their struggles\, and personal stories that lead them to where they are today. Lunch provided by Great Lakes Pot Pies. Networking starts at 11:00am\, Lunch at 11:15am and speakers from 11:45am-1:00pm.&nbsp\;<br />\n<br />\n<span style="background-color: rgb(250\, 250\, 250)\;"><span style="font-size:18px\;">Please register </span></span><span style="color: rgb(128\, 128\, 128)\; background-color: rgb(250\, 250\, 250)\;"><span style="font-size:18px\;"><a href="https://events.r20.constantcontact.com/register/eventReg?oeidk=a07ejnbbv1sfb18000d&amp\;oseq=&amp\;c=&amp\;ch=">HERE!</a></span></span></span></p>\n
LOCATION:Woodward Corner Market Cafe 30955 Woodward Ave.\, Ste 305 Royal Oak\, MI 48073
UID:e.2933.4087
SEQUENCE:3
DTSTAMP:20260424T070030Z
URL:http://royaloakchamber.smartcms.site/events/details/bwn-making-a-name-conversations-with-women-in-business-4087
END:VEVENT

END:VCALENDAR
