BEGIN:VCALENDAR
VERSION:2.0
PRODID:-//ChamberMaster//Event Calendar 2.0//EN
METHOD:PUBLISH
X-PUBLISHED-TTL:P3D
REFRESH-INTERVAL:P3D
CALSCALE:GREGORIAN
BEGIN:VEVENT
DTSTART:20220817T151500Z
DTEND:20220817T170000Z
X-MICROSOFT-CDO-ALLDAYEVENT:FALSE
SUMMARY:BWN Luncheon Olga's
DESCRIPTION:You're invited to our Business Women's Network\, August Luncheon Networking Event. \n\nWe will continue celebrating Women in Business for August\, to be held at Olga's Kitchen of Royal Oak.\n\n \n\nWednesday\, August 17th: Networking will begin at 11:15 am\, with the program beginning promptly thereafter. Our program will last until about 1:00 pm. REGISTER HERE.\n\n \n\nDon't forget your business cards or flyers for networking! Why not invite your friend or coworker who would also enjoy a networking opportunity?
X-ALT-DESC;FMTTYPE=text/html:You&#39\;re invited to our Business Women&#39\;s Network\, August Luncheon Networking Event.&nbsp\;<br />\n<span style="color:#403F42\;"><span style="font-size:12.0pt\;">We will continue celebrating Women in Business for August\, to be held at Olga&#39\;s Kitchen of Royal Oak.</span></span><br />\n&nbsp\;<br />\n<span style="color:#403F42\;"><span style="font-size:12.0pt\;">Wednesday\, August 17th: Networking will begin at 11:15 am\, with the program beginning promptly thereafter. Our program will last until about 1:00 pm. REGISTER HERE.</span></span><br />\n&nbsp\;<br />\n<em><span style="color:#479B46\;"><span style="font-family:franklin gothic medium\,sans-serif\;"><span style="font-size:12.0pt\;">Don&#39\;t forget your business cards or flyers for networking! Why not invite your friend or coworker who would also enjoy a networking opportunity?</span></span></span></em><br />\n&nbsp\;
LOCATION:Olga's Kitchen 30332 Woodward Ave. Royal Oak\, MI 48073
UID:e.2933.4017
SEQUENCE:3
DTSTAMP:20260424T024217Z
URL:http://royaloakchamber.smartcms.site/events/details/bwn-luncheon-olga-s-4017
END:VEVENT

END:VCALENDAR
