BEGIN:VCALENDAR
VERSION:2.0
PRODID:-//ChamberMaster//Event Calendar 2.0//EN
METHOD:PUBLISH
X-PUBLISHED-TTL:P3D
REFRESH-INTERVAL:P3D
CALSCALE:GREGORIAN
BEGIN:VEVENT
DTSTART:20240314T150000Z
DTEND:20240314T170000Z
X-MICROSOFT-CDO-ALLDAYEVENT:FALSE
SUMMARY:BWN Luncheon Event: Conversations with Women in Business
DESCRIPTION:In celebration of Women's History Month\, join us at the cafe in Woodward Corner Market for networking\, lunch and speaker presentations from 4 women in business. Discover how they came up in their industry\, their struggles\, and personal stories that lead them to where they are today. Lunch will be provided. Tickets are $20 and can be purchased by clicking the link.\n\nMAKING A NAME Conversations with Women in Business 2024 (constantcontact.com)
X-ALT-DESC;FMTTYPE=text/html:<br />\n<br />\nIn celebration of Women&#39\;s History Month\, join us at the cafe in Woodward Corner Market for networking\, lunch and speaker presentations from 4 women in business. Discover how they came up in their industry\, their struggles\, and personal stories that lead them to where they are today. Lunch will be provided. Tickets are $20 and can be purchased by clicking the link.<br />\n<a href="https://events.r20.constantcontact.com/register/eventReg?oeidk=a07ek9pzeeq30f57536&amp\;oseq=&amp\;c=&amp\;ch=">MAKING A NAME Conversations with Women in Business 2024 (constantcontact.com)</a>
LOCATION:Woodward Corner Market 30955 Woodward Ave. #305 Royal Oak\, MI 48073
UID:e.2933.4326
SEQUENCE:3
DTSTAMP:20260422T211520Z
URL:http://royaloakchamber.smartcms.site/events/details/bwn-luncheon-event-conversations-with-women-in-business-4326
END:VEVENT

END:VCALENDAR
