BEGIN:VCALENDAR
VERSION:2.0
PRODID:-//ChamberMaster//Event Calendar 2.0//EN
METHOD:PUBLISH
X-PUBLISHED-TTL:P3D
REFRESH-INTERVAL:P3D
CALSCALE:GREGORIAN
BEGIN:VEVENT
DTSTART:20220316T151500Z
DTEND:20220316T173000Z
X-MICROSOFT-CDO-ALLDAYEVENT:FALSE
SUMMARY:BWN Luncheon- Celebrating Women in History
DESCRIPTION:Women's History Month\n					\n				\n			\n			\n		\n	\n\n\n \n \n\n\n	\n		\n			\n			\n				\n					\n						Join us for our BWN March luncheon\, celebrating Women's History Month. Lunch is being sponsored by Woodward Corner Market from TWO Unique Catering\, one of our women owned businesses in the community! Join us as we lunch on salads and learn from some of the women owned businesses in our community. All monetary donations will go towards the Royal Oak Chamber Scholarship Fund.\n\n						 \n\n						Wednesday\, March 16: Networking will begin at 11:15am\, Lunch will be Served at 11:45am and Program will begin promptly at 12pm.\n\n						 \n\n						 \n					\n				\n			\n			\n		\n	\n\n\n    Click HERE to Register
X-ALT-DESC;FMTTYPE=text/html:<table align="center" border="0" cellpadding="0" cellspacing="0" style="width:100.0%\;border-collapse:collapse\;" width="100%">\n	<tbody>\n		<tr>\n			<td style="width:100.0%\;padding:0in 0in 0in 0in\;vertical-align:top\;">\n			<table border="0" cellpadding="0" cellspacing="0" style="width:100.0%\;border-collapse:collapse\;" width="100%">\n				<tbody>\n					<tr>\n						<td style="padding:7.5pt 15.0pt 7.5pt 15.0pt\;vertical-align:top\;"><span style="color:#717A80\;"><span style="font-family:arial\,sans-serif\;"><span style="font-size:18.0pt\;">Women&#39\;s History Month</span></span></span></td>\n					</tr>\n				</tbody>\n			</table>\n			</td>\n		</tr>\n	</tbody>\n</table>\n\n<div style="clear:both\;">&nbsp\;</div>\n&nbsp\;\n\n<table align="center" border="0" cellpadding="0" cellspacing="0" style="width:100.0%\;border-collapse:collapse\;min-width:100%\;" width="100%">\n	<tbody>\n		<tr>\n			<td style="width:100.0%\;padding:0in 0in 0in 0in\;word-wrap:break-word\;vertical-align:top\;">\n			<table border="0" cellpadding="0" cellspacing="0" style="width:100.0%\;border-collapse:collapse\;min-width:100%\;" width="100%">\n				<tbody>\n					<tr>\n						<td style="padding:7.5pt 15.0pt 7.5pt 15.0pt\;vertical-align:top\;"><font color="#403f42"><span style="font-size: 16px\;">Join us for our BWN March luncheon\, celebrating Women&#39\;s History Month. Lunch is being sponsored by Woodward Corner Market from TWO Unique Catering\, one of our women owned businesses in the community! Join us as we lunch on salads and learn from some of the women owned businesses in our community. All monetary donations will go towards the Royal Oak Chamber Scholarship Fund.</span></font><br />\n						&nbsp\;<br />\n						<span style="color:#403F42\;"><span style="font-size:12.0pt\;">Wednesday\, March 16: Networking will begin at 11:15am\,&nbsp\;Lunch will be Served at 11:45am and Program will begin promptly at 12pm.</span></span><br />\n						&nbsp\;<br />\n						&nbsp\;</td>\n					</tr>\n				</tbody>\n			</table>\n			</td>\n		</tr>\n	</tbody>\n</table>\n\n<div style="clear:both\;"><span style="font-size:20px\;"><span style="color: rgb(42\, 43\, 53)\; font-family: &quot\;century gothic&quot\;\, sans-serif\; background-color: rgb(255\, 255\, 255)\;">&nbsp\; &nbsp\; Click&nbsp\;</span><strong style="color: rgb(42\, 43\, 53)\; font-family: &quot\;century gothic&quot\;\, sans-serif\; font-size: 24px\; background-color: rgb(255\, 255\, 255)\;"><a href="https://events.r20.constantcontact.com/register/eventReg?oeidk=a07ej28zw6tb3b2b717&amp\;oseq=&amp\;c=&amp\;ch=" style="color: rgb(7\, 130\, 193)\;"><span style="color:#006400\;">HERE</span></a></strong><span style="color: rgb(42\, 43\, 53)\; font-family: &quot\;century gothic&quot\;\, sans-serif\; background-color: rgb(255\, 255\, 255)\;">&nbsp\;to Register</span></span></div>\n
LOCATION:Woodward Corner Market 30955 Woodward Ave. #305 Royal Oak\, MI
UID:e.2933.3916
SEQUENCE:3
DTSTAMP:20260424T112910Z
URL:http://royaloakchamber.smartcms.site/events/details/bwn-luncheon-celebrating-women-in-history-3916
END:VEVENT

END:VCALENDAR
