BEGIN:VCALENDAR
VERSION:2.0
PRODID:-//ChamberMaster//Event Calendar 2.0//EN
METHOD:PUBLISH
X-PUBLISHED-TTL:P3D
REFRESH-INTERVAL:P3D
CALSCALE:GREGORIAN
BEGIN:VEVENT
DTSTART:20240806T153000Z
DTEND:20240806T170000Z
X-MICROSOFT-CDO-ALLDAYEVENT:FALSE
SUMMARY:BWN Funding Forward Women's Business Workshop
DESCRIPTION:Business Women's Network invites you to join them for a Funding Forward: Women's Business Workshop. \n\n\n\nJoin us for a Lunch & Learn about the resources the Great Lakes Women's Business Council and CEED Lending can offer to help grow your small business.\n\n\n\nWe'll discuss:\n\n- Business Development Training\n\n- Small business financing\n\n- Vendor certification (Women's Business Enterprise Certification)\n\n\n\nSpeakers:\n\n- Xana Williams | CEED Lending\n\n- Veronica Johnson | Great Lakes Women's Business Council\n\n- Sherry Cummins\, SHRM-SCP\, CMM\, CMP | Great Lakes Women's Business Council\n\n\n\nLunch: Your choice of 3 different sandwiches and sides from OakHouse Deli.\n\n\n\nRegister HERE!
X-ALT-DESC;FMTTYPE=text/html:<span style="font-size:16px\;"><span style="font-family:arial\;">Business Women&#39\;s Network invites you to join them for a Funding Forward: Women&#39\;s Business Workshop.&nbsp\;<br />\n<br />\nJoin us for a Lunch &amp\; Learn about the resources the Great Lakes Women&rsquo\;s Business Council and CEED Lending can offer to help grow your small business.<br style="color: rgb(118\, 118\, 118)\; font-family: &quot\;Open Sans&quot\;\, sans-serif\; font-size: 15px\;" />\n<br style="color: rgb(118\, 118\, 118)\; font-family: &quot\;Open Sans&quot\;\, sans-serif\; font-size: 15px\;" />\nWe&rsquo\;ll discuss:<br style="color: rgb(118\, 118\, 118)\; font-family: &quot\;Open Sans&quot\;\, sans-serif\; font-size: 15px\;" />\n- Business Development Training<br style="color: rgb(118\, 118\, 118)\; font-family: &quot\;Open Sans&quot\;\, sans-serif\; font-size: 15px\;" />\n- Small business financing<br style="color: rgb(118\, 118\, 118)\; font-family: &quot\;Open Sans&quot\;\, sans-serif\; font-size: 15px\;" />\n- Vendor certification (Women&rsquo\;s Business Enterprise Certification)<br style="color: rgb(118\, 118\, 118)\; font-family: &quot\;Open Sans&quot\;\, sans-serif\; font-size: 15px\;" />\n<br style="color: rgb(118\, 118\, 118)\; font-family: &quot\;Open Sans&quot\;\, sans-serif\; font-size: 15px\;" />\nSpeakers:<br style="color: rgb(118\, 118\, 118)\; font-family: &quot\;Open Sans&quot\;\, sans-serif\; font-size: 15px\;" />\n- Xana Williams | CEED Lending<br style="color: rgb(118\, 118\, 118)\; font-family: &quot\;Open Sans&quot\;\, sans-serif\; font-size: 15px\;" />\n- Veronica Johnson | Great Lakes Women&rsquo\;s Business Council<br style="color: rgb(118\, 118\, 118)\; font-family: &quot\;Open Sans&quot\;\, sans-serif\; font-size: 15px\;" />\n- Sherry Cummins\, SHRM-SCP\, CMM\, CMP | Great Lakes Women&rsquo\;s Business Council<br style="color: rgb(118\, 118\, 118)\; font-family: &quot\;Open Sans&quot\;\, sans-serif\; font-size: 15px\;" />\n<br style="color: rgb(118\, 118\, 118)\; font-family: &quot\;Open Sans&quot\;\, sans-serif\; font-size: 15px\;" />\nLunch: Your choice of 3 different sandwiches and sides from OakHouse Deli.<br />\n<br />\n<strong>Register <a href="https://lp.constantcontactpages.com/ev/reg/4j5wsxs/lp/071e21f3-0cfd-4cee-a014-f4819b726cad"><span style="color:#800080\;"><span style="font-size:22px\;">HERE!</span></span></a></strong><span style="font-size:22px\;">&nbsp\;</span></span></span>
LOCATION:Royal Oak Chamber of Commerce 200 S. Washington Ave. Royal Oak\, MI 48067
UID:e.2933.4401
SEQUENCE:3
DTSTAMP:20260423T061317Z
URL:http://royaloakchamber.smartcms.site/events/details/bwn-funding-forward-women-s-business-workshop-4401
END:VEVENT

END:VCALENDAR
