BEGIN:VCALENDAR
VERSION:2.0
PRODID:-//ChamberMaster//Event Calendar 2.0//EN
METHOD:PUBLISH
X-PUBLISHED-TTL:P3D
REFRESH-INTERVAL:P3D
CALSCALE:GREGORIAN
BEGIN:VEVENT
DTSTART:20240918T160000Z
DTEND:20240918T171500Z
X-MICROSOFT-CDO-ALLDAYEVENT:FALSE
SUMMARY:BWN Fearless Financing Webinar
DESCRIPTION:It's not just about accessing capital\; it's about overcoming the fear of financing and rejection. It's about seizing opportunities.\n\n			\n\n			Join BWN with speaker\, Lysa Davis\, as she dives into small business funding and explores ways to empower entrepreneurs.\n\n			\n\n			Let's rewrite the story together.\n\n			Registration is FREE!\n\n			\n\n			Takeaways:\n\n			- Understand the loan process\n\n			- Overcome loan anxiety\n\n			- Discover accessible small business loans\n\n			- Prepare for success\n		\n	\n\n\nREGISTER HERE!
X-ALT-DESC;FMTTYPE=text/html:<table align="center" border="0" cellpadding="0" cellspacing="0" style="width:100.0%\;" width="100%">\n	<tbody>\n		<tr>\n			<td style="padding:7.5pt 30.0pt 7.5pt 30.0pt\;vertical-align:top\;"><span style="color:#767676\;"><span style="font-family:open sans\,sans-serif\;"><span style="font-size:11.5pt\;">It&#39\;s not just about accessing capital\; it&#39\;s about overcoming the fear of financing and rejection. It&#39\;s about seizing opportunities.<br />\n			<br />\n			Join BWN with speaker\, Lysa Davis\, as she dives into small business funding and explores ways to empower entrepreneurs.<br />\n			<br />\n			Let&#39\;s rewrite the story together.<br />\n			Registration is FREE!<br />\n			<br />\n			Takeaways:<br />\n			- Understand the loan process<br />\n			- Overcome loan anxiety<br />\n			- Discover accessible small business loans<br />\n			- Prepare for success</span></span></span></td>\n		</tr>\n	</tbody>\n</table>\n\n<div style="clear:both\;"><span style="font-size:18px\;"><strong><a href="https://lp.constantcontactpages.com/ev/reg/z5grjn5/lp/c18fa55f-6775-4c55-b4ee-cbc248b026bf?source_id=271d18b2-fa0a-4eb8-a0b6-20ba84cd3505&amp\;source_type=em&amp\;c=z09QMsp0xnkykpVctSlXZIwqhXXN8fyyBZO-ERX4Uwz0w66YNCgQiw==">REGISTER HERE!&nbsp\;</a></strong></span></div>\n
LOCATION:Virtual Location-you will receive a confirmation email with a URL.
UID:e.2933.4564
SEQUENCE:3
DTSTAMP:20260423T061223Z
URL:http://royaloakchamber.smartcms.site/events/details/bwn-fearless-financing-webinar-4564
END:VEVENT

END:VCALENDAR
