BEGIN:VCALENDAR
VERSION:2.0
PRODID:-//ChamberMaster//Event Calendar 2.0//EN
METHOD:PUBLISH
X-PUBLISHED-TTL:P3D
REFRESH-INTERVAL:P3D
CALSCALE:GREGORIAN
BEGIN:VEVENT
DTSTART:20220615T213000Z
DTEND:20220616T000000Z
X-MICROSOFT-CDO-ALLDAYEVENT:FALSE
SUMMARY:BWN Evening Networking at dynfly
DESCRIPTION:You are invited to join the Business Women's Network for an evening at dynfly! Wine and treats provided.\n\nMembers $15\, Non-members $20. Register to attend HERE.\n\ndynfly is a pop-in\, pop-out color bar to keep your hair always on point. Touchup roots and grays no appointment needed. Our professionally trained colorists keep your MyDye  Color DNA on file\, so you get perfect shade every time. Upgrade your service with a conditioning treatment and a blowout\, or help yourself to salon-quality styling tools and premium Tigi  products at our YDI  (You Do It) finishing bar. \n\n\n\nServices will be offered during the event\, register HERE.
X-ALT-DESC;FMTTYPE=text/html:<span style="font-size:16px\;"><span style="font-family:arial\;">You are invited to join the Business Women&#39\;s Network for an evening at dynfly! Wine and treats provided.<br />\nMembers $15\, Non-members $20. Register to attend <a href="http://events.r20.constantcontact.com/register/event?oeidk=a07ej8da5d56650d4ff&amp\;llr=cwmcr4bab">HERE.</a></span></span>\n\n<p><span style="font-size:14px\;">dynfly is a pop-in\, pop-out color bar to keep your hair always on point. Touchup roots and grays no appointment needed. Our professionally trained colorists keep your MyDye&trade\; Color DNA on file\, so you get perfect shade every time. Upgrade your service with a conditioning treatment and a blowout\, or help yourself to salon-quality styling tools and premium Tigi&trade\; products at our YDI&reg\; (You Do It) finishing bar.&nbsp\;</span><br />\n<br />\n<span style="font-family: arial\; font-size: 16px\;">Services will be offered during the event\, register&nbsp\;</span><a href="https://forms.gle/LKAe9te9KC387J75A" style="font-family: arial\; font-size: 16px\;">HERE</a><span style="font-family: arial\; font-size: 16px\;">.</span></p>\n
LOCATION:dynfly 30955 Woodward Ave. Royal Oak\, MI
UID:e.2933.3993
SEQUENCE:3
DTSTAMP:20260424T061641Z
URL:http://royaloakchamber.smartcms.site/events/details/bwn-evening-networking-at-dynfly-3993
END:VEVENT

END:VCALENDAR
