BEGIN:VCALENDAR
VERSION:2.0
PRODID:-//ChamberMaster//Event Calendar 2.0//EN
METHOD:PUBLISH
X-PUBLISHED-TTL:P3D
REFRESH-INTERVAL:P3D
CALSCALE:GREGORIAN
BEGIN:VEVENT
DTSTART:20241029T153000Z
DTEND:20241029T170000Z
X-MICROSOFT-CDO-ALLDAYEVENT:FALSE
SUMMARY:BWN Essentials of Social Media Workshop
DESCRIPTION:Essentials of Social Media Workshop\n			\n		\n	\n\n\n    Register for this FREE networking opportunity HERE!! \n\n    This event is hosted by our Business Women's Network! \n \n\n\n	\n		\n			Presented by Jordanna Cheifetz\, JAC Digital Media\n\n			\n\n			This workshop is designed to give you a comprehensive understanding of social media usage\, perfect for beginners or those looking to enhance their online presence.\n\n			\n\n			We'll introduce the fundamentals and guide you through the steps of engaging with various platforms. Next\, we'll dive into strategies for gaining traction\, exploring techniques to increase your visibility and boost engagement across your chosen networks.\n\n			\n\n			Join us for this engaging workshop and take the first step towards mastering social media!
X-ALT-DESC;FMTTYPE=text/html:<table align="center" border="0" cellpadding="0" cellspacing="0" style="width:100.0%\;" width="100%">\n	<tbody>\n		<tr>\n			<td style="padding:7.5pt 30.0pt 7.5pt 30.0pt\;vertical-align:top\;">\n			<h1><span style="font-family:arial\;"><span style="font-size:18px\;"><span style="color:#333333\;">Essentials of Social Media Workshop</span></span></span></h1>\n			</td>\n		</tr>\n	</tbody>\n</table>\n\n<div style="clear: both\;"><span style="font-family:arial\;">&nbsp\;&nbsp\;&nbsp\;<span style="font-size:16px\;">&nbsp\;Register for this FREE networking opportunity&nbsp\;<a href="https://lp.constantcontactpages.com/ev/reg/k25ky3c/lp/c4d83475-297d-4ffe-8218-5bb050854e58" style="font-size: 16px\;">HERE!!</a>&nbsp\;</span></span><br />\n<span style="font-size:16px\;">&nbsp\;&nbsp\;&nbsp\;&nbsp\;<span style="font-family:arial\;">This event is hosted by our Business Women&#39\;s Network!&nbsp\;</span></span></div>\n&nbsp\;\n\n<table align="center" border="0" cellpadding="0" cellspacing="0" style="width:100.0%\;" width="100%">\n	<tbody>\n		<tr>\n			<td style="padding:7.5pt 30.0pt 7.5pt 30.0pt\;vertical-align:top\;"><span style="font-family:arial\;"><span style="color:#767676\;"><span style="font-size:11.5pt\;">Presented by Jordanna Cheifetz\, JAC Digital Media<br />\n			<br />\n			This workshop is designed to give you a comprehensive understanding of social media usage\, perfect for beginners or those looking to enhance their online presence.<br />\n			<br />\n			We&rsquo\;ll introduce the fundamentals and guide you through the steps of engaging with various platforms. Next\, we&rsquo\;ll dive into strategies for gaining traction\, exploring techniques to increase your visibility and boost engagement across your chosen networks.<br />\n			<br />\n			Join us for this engaging workshop and take the first step towards mastering social media!</span></span></span></td>\n		</tr>\n	</tbody>\n</table>\n\n<div style="clear:both\;">&nbsp\;</div>\n
LOCATION:Royal Oak Chamber of Commerce 200 S. Washington Ave. Royal Oak\, MI 48067 Park in the structure directly across the street.
UID:e.2933.4580
SEQUENCE:3
DTSTAMP:20260423T075809Z
URL:http://royaloakchamber.smartcms.site/events/details/bwn-essentials-of-social-media-workshop-4580
END:VEVENT

END:VCALENDAR
