BEGIN:VCALENDAR
VERSION:2.0
PRODID:-//ChamberMaster//Event Calendar 2.0//EN
METHOD:PUBLISH
X-PUBLISHED-TTL:P3D
REFRESH-INTERVAL:P3D
CALSCALE:GREGORIAN
BEGIN:VEVENT
DTSTART:20211208T161500Z
DTEND:20211208T180000Z
X-MICROSOFT-CDO-ALLDAYEVENT:FALSE
SUMMARY:BWN December Luncheon
DESCRIPTION:You're invited to our BWN December Lunch! Our Speaker will be Margi Mason from Mrs. Mason's Co. \n\nRegister HERE. \n\n \n\nWednesday\, December 8: Networking will begin at 11:15am\, Lunch will be Served at 11:45am and Program will begin promptly at 12pm.\n\n \n\nDon't forget your business cards or fliers and be prepared to give a 30 second promotional message about your business! Why not invite your friend or coworker who would also enjoy a networking opportunity?
X-ALT-DESC;FMTTYPE=text/html:<p><span style="font-size:18px\;"><span style="color: rgb(64\, 63\, 66)\; font-family: Calibri\, Helvetica\, Arial\, sans-serif\; background-color: rgb(255\, 255\, 255)\;">You&#39\;re invited to our BWN December Lunch! Our Speaker will be Margi Mason from Mrs. Mason&#39\;s Co.&nbsp\;</span></span><br />\n<span style="color: rgb(0\, 128\, 0)\; font-family: arial\; font-size: 16px\;">Register&nbsp\;<a href="https://events.r20.constantcontact.com/register/eventReg?oeidk=a07eiw1yzg5154951b0&amp\;oseq=&amp\;c=&amp\;ch="><u>HERE.</u></a>&nbsp\;</span></p>\n\n<div style="color: rgb(64\, 63\, 66)\; font-family: Arial\, Verdana\, Helvetica\, sans-serif\; font-size: 12px\; background-color: rgb(255\, 255\, 255)\;">&nbsp\;</div>\n\n<div style="color: rgb(64\, 63\, 66)\; font-family: Arial\, Verdana\, Helvetica\, sans-serif\; font-size: 12px\; background-color: rgb(255\, 255\, 255)\;"><span style="font-size:18px\;"><span style="font-family: Calibri\, Helvetica\, Arial\, sans-serif\;">Wednesday\, December 8: Networking will begin at 11:15am\,&nbsp\;Lunch will be Served at 11:45am and Program will begin promptly at 12pm.</span></span></div>\n\n<div style="color: rgb(64\, 63\, 66)\; font-family: Arial\, Verdana\, Helvetica\, sans-serif\; font-size: 12px\; background-color: rgb(255\, 255\, 255)\;">&nbsp\;</div>\n\n<div style="color: rgb(64\, 63\, 66)\; font-family: Arial\, Verdana\, Helvetica\, sans-serif\; font-size: 12px\; background-color: rgb(255\, 255\, 255)\;"><span style="font-size:18px\;"><span franklin="" gothic="" style="color: rgb(71\, 155\, 70)\; font-style: italic\; font-family: ">Don&#39\;t forget your business cards or fliers and be prepared to give a&nbsp\;30 second promotional message about your business! Why not invite your friend or coworker who would also enjoy a networking opportunity?</span></span></div>\n
LOCATION:Three Cats Cafe 96 W. Fourteen Mile Rd. Clawson\, MI
UID:e.2933.3865
SEQUENCE:3
DTSTAMP:20260424T165529Z
URL:http://royaloakchamber.smartcms.site/events/details/bwn-december-luncheon-3865
END:VEVENT

END:VCALENDAR
