BEGIN:VCALENDAR
VERSION:2.0
PRODID:-//ChamberMaster//Event Calendar 2.0//EN
METHOD:PUBLISH
X-PUBLISHED-TTL:P3D
REFRESH-INTERVAL:P3D
CALSCALE:GREGORIAN
BEGIN:VEVENT
DTSTART:20230511T120000Z
DTEND:20230511T133000Z
X-MICROSOFT-CDO-ALLDAYEVENT:FALSE
SUMMARY:BWN Balancing Motherhood\, Career & Heritage Panel Discussion
DESCRIPTION:Join our Business Women's Network at Bamboo Royal Oak for networking\, coffee and pastries\, and a star panel discussion celebrating Asian American women and mothers. Topics will include the highs and lows of motherhood\, the Asian American experience\, and balancing family & career.\n\n\n\nPlease purchase ticket to attend HERE.
X-ALT-DESC;FMTTYPE=text/html:<span style="font-size:16px\;"><span style="font-family:arial\;"><span style="background-color: rgb(250\, 250\, 250)\;">Join our Business Women&#39\;s Network at Bamboo Royal Oak for networking\, coffee and pastries\, and a star panel discussion celebrating Asian American women and mothers. Topics will include the highs and lows of motherhood\, the Asian American experience\, and balancing family &amp\; career.</span></span></span><br />\n<br />\n<span style="font-size:18px\;">Please purchase ticket to attend <a href="https://events.r20.constantcontact.com/register/eventReg?oeidk=a07ejrk61mwca2ea4b6&amp\;oseq=&amp\;c=&amp\;ch=">HERE.</a>&nbsp\;</span>
LOCATION:Bamboo Royal Oak 220 S. Main St. Royal Oak\, MI 48067
UID:e.2933.4123
SEQUENCE:3
DTSTAMP:20260424T000832Z
URL:http://royaloakchamber.smartcms.site/events/details/bwn-balancing-motherhood-career-heritage-panel-discussion-4123
END:VEVENT

END:VCALENDAR
