BEGIN:VCALENDAR
VERSION:2.0
PRODID:-//ChamberMaster//Event Calendar 2.0//EN
METHOD:PUBLISH
X-PUBLISHED-TTL:P3D
REFRESH-INTERVAL:P3D
CALSCALE:GREGORIAN
BEGIN:VEVENT
DTSTART:20240323T130000Z
DTEND:20240323T150000Z
X-MICROSOFT-CDO-ALLDAYEVENT:FALSE
SUMMARY:Business Networking For Good
DESCRIPTION:Date and Time: Saturday\, March 23\, 9:00 AM - 11:00 AM\n\nLocation: 20 S. Main\, Rochester\, MI 48307\n\nEvent Purpose:"Business Networking For Good" is a unique opportunity aimed at connecting people and communities. Expand Your Network:This Networking event is ideal for meeting potential clients\, partners\, or new friends. You never know who you will meet and how these new contacts can open doors to a variety of business and personal opportunities.\n\nOur objective is to share your business\, any good and uplifting news\, foster strong relationships\,strengthen local businesses\, and spotlight small local nonprofits that are making a significant impact. This event is a platform to exchange contacts\, nurture collaborations to spread positivity worldwide.\n\nEvent Flow:\n\n\n	9:00 AM - 9:30 AM: Kickstart the morning with free-flow networking accompanied by complimentary coffee and donuts.\n	9:20 AM: A warm welcome from the hosts(Creative Society)\n	9:30 AM - 9:40 AM: Presentation by a local nonprofit detailing their mission\, vision\, and ways to support their cause. (Nonprofit TBD Soon)\n	9:45 AM - 10:15 AM: Circle Time - An engaging session where each attendee introduces themselves\, their business interests\, and shares a piece of one good news (personal\, business or community).\n	10:20 AM - 10:30 AM: A second nonprofit shares their inspiring journey\, mission\, and actionable ways for you to contribute. (Nonprofit TBD Soon)\n	10:30 AM - 11:00 AM: The event concludes with more free-flowing networking\, offering another chance to connect and collaborate.\n	 \n\n\nAdditional Information:This event is completely free\, but registration is required to manage the head count efficiently. Please bring a lot of business cards and feel free to bring a friend or make new ones here!
X-ALT-DESC;FMTTYPE=text/html:<p>Date and Time:&nbsp\;Saturday\, March 23\, 9:00 AM - 11:00 AM</p>\n\n<p>Location:&nbsp\;20 S. Main\, Rochester\, MI 48307</p>\n\n<p>Event Purpose:&quot\;Business Networking For Good&quot\; is a unique opportunity aimed at connecting people and communities.&nbsp\;Expand Your Network:This Networking event is ideal for meeting potential clients\, partners\, or new friends. You never know who you will meet and how these new contacts can open doors to a variety of business and personal opportunities.</p>\n\n<p>Our objective is to share your business\, any good and uplifting news\, foster strong relationships\,strengthen local businesses\, and spotlight small local nonprofits that are making a significant impact. This event is a platform to exchange contacts\, nurture collaborations to spread positivity worldwide.</p>\n\n<p>Event Flow:</p>\n\n<ul>\n	<li><strong>9:00 AM - 9:30 AM:</strong>&nbsp\;Kickstart the morning with free-flow networking accompanied by complimentary coffee and donuts.</li>\n	<li><strong>9:20 AM:</strong>&nbsp\;A warm welcome from the hosts(Creative Society)</li>\n	<li><strong>9:30 AM - 9:40 AM:</strong>&nbsp\;Presentation by a local nonprofit detailing their mission\, vision\, and ways to support their cause. (Nonprofit TBD Soon)</li>\n	<li><strong>9:45 AM - 10:15 AM:</strong>&nbsp\;<strong><em>Circle Time</em></strong>&nbsp\;- An engaging session where each attendee introduces themselves\, their business interests\, and shares a piece of one good news (personal\, business or community).</li>\n	<li><strong>10:20 AM - 10:30 AM:</strong>&nbsp\;A second nonprofit shares their inspiring journey\, mission\, and actionable ways for you to contribute. (Nonprofit TBD Soon)</li>\n	<li><strong>10:30 AM - 11:00 AM:</strong>&nbsp\;The event concludes with more free-flowing networking\, offering another chance to connect and collaborate.</li>\n	<li>&nbsp\;</li>\n</ul>\n\n<p>Additional Information:This event is completely free\, but registration is required to manage the head count efficiently. Please bring a lot of business cards and feel free to bring a friend or make new ones here!</p>\n\n<p>&nbsp\;</p>\n
LOCATION:20 S. Main\, Rochester\, MI 48307
UID:e.2933.4334
SEQUENCE:3
DTSTAMP:20260422T205729Z
URL:http://royaloakchamber.smartcms.site/events/details/business-networking-for-good-4334
END:VEVENT

END:VCALENDAR
