BEGIN:VCALENDAR
VERSION:2.0
PRODID:-//ChamberMaster//Event Calendar 2.0//EN
METHOD:PUBLISH
X-PUBLISHED-TTL:P3D
REFRESH-INTERVAL:P3D
CALSCALE:GREGORIAN
BEGIN:VEVENT
DTSTART:20240430T120000Z
DTEND:20240430T130000Z
X-MICROSOFT-CDO-ALLDAYEVENT:FALSE
SUMMARY:BUILDING BRIGHTER FUTURES BREAKFAST
DESCRIPTION:Come learn about how Oakland Family Services has positively impacted the community during our 10th annual Building Brighter Futures Breakfast. April 30\, 2024 at the Townsend Hotel in Birmingham RSVP: https://www.oaklandfamilyservices.org/breakfast "This complimentary event plays a pivotal role in fundraising for our mission   empowering individuals and families to create brighter futures through an array of prevention\, education\, and treatment services that enrich children's lives\, build families\, and restore individuals\," stated Jaimie Clayton\, CEO and President of Oakland Family Services. The funds raised at the breakfast impact over 40\,000 people each year! This event is free to attend.
X-ALT-DESC;FMTTYPE=text/html:Come learn about how Oakland Family Services has positively impacted the community during our 10th annual Building Brighter Futures Breakfast. April 30\, 2024 at the Townsend Hotel in Birmingham RSVP: https://www.oaklandfamilyservices.org/breakfast &ldquo\;This complimentary event plays a pivotal role in fundraising for our mission &ndash\; empowering individuals and families to create brighter futures through an array of prevention\, education\, and treatment services that enrich children&#39\;s lives\, build families\, and restore individuals\,&quot\; stated Jaimie Clayton\, CEO and President of Oakland Family Services. The funds raised at the breakfast impact over 40\,000 people each year! This event is free to attend.
LOCATION:The Townsend Hotel 100 Townsend St\, Birmingham\, MI 48009
UID:e.2933.4343
SEQUENCE:3
DTSTAMP:20260422T224055Z
URL:http://royaloakchamber.smartcms.site/events/details/building-brighter-futures-breakfast-4343
END:VEVENT

END:VCALENDAR
