BEGIN:VCALENDAR
VERSION:2.0
PRODID:-//ChamberMaster//Event Calendar 2.0//EN
METHOD:PUBLISH
X-PUBLISHED-TTL:P3D
REFRESH-INTERVAL:P3D
CALSCALE:GREGORIAN
BEGIN:VEVENT
DTSTART:20240809T120000Z
DTEND:20240809T220000Z
X-MICROSOFT-CDO-ALLDAYEVENT:FALSE
SUMMARY:Brown Iron Charity Golf Outing
DESCRIPTION:We are looking for sponsors and golfers interested in participating in our 6th annual Brown Iron Brewhouse Charity Golf Outing!\n\n \n\nThis year\, we are working with our friends from Detroit Animal Welfare Group (DAWG)\n\n \n\nBelow you will find all of the details and what's included in each separate package!\n\n \n\nIf interested\, stop by the brewhouse and ask the host or manager\, email info@browniron.com for the forms\, or give us a call at 586-697-3300. We will have forms ready to fill out!\n\n \n\nAll forms must be brought in to our Washington Twp. location or mailed in!\n\n \n\nGold Sponsor ($850)\n\nHole sponsorship (your business acknowledged at two-tee boxes)\, one raffle prize sponsorship (prize purchased included in sponsor fee)\, golf package for 4 players\, 20 raffle tickets\, and recognition at the after-golf dinner\n\n \n\nSilver Sponsor ($500)\n\nHole sponsorship (your business acknowledged at a tee)\, Golf package for 2 players\, 10 raffle tickets\, and recognition at the after-golf dinner\n\n \n\nBronze Sponsor ($400)\n\nHole sponsorship (your business acknowledged at a tee)\, Golf package for 1 player\, 5 raffle tickets\, and recognition at the after-golf dinner\n\n \n\nHole Sponsorship ($125)\n\nHole sponsorship (your business acknowledged at a tee)\, and recognition at the after-golf dinner\n\n \n\nGroup Of 4 Golfers ($600)\n\n \n\nIndividual Golfer ($150)\n\n \n\nAll packages include Continental breakfast at 8 AM\, range service\, a shotgun start at 9 AM\, 18 holes of golf with cart\, lunch at the turn\, gift bag\, 3 drink tickets\, raffle prizes\, and buffet dinner at Brown Iron Washington\n\n \n\nAll raffle prizes are welcome! No restrictions!
X-ALT-DESC;FMTTYPE=text/html:<div>We are looking for sponsors and golfers interested in participating in our 6th annual Brown Iron Brewhouse Charity Golf Outing!<br />\n&nbsp\;</div>\n\n<div>This year\, we are working with our friends from Detroit Animal Welfare Group (DAWG)<br />\n&nbsp\;</div>\n\n<div>Below you will find all of the details and what&#39\;s included in each separate package!<br />\n&nbsp\;</div>\n\n<div>If interested\, stop by the brewhouse and ask the host or manager\, email info@browniron.com for the forms\, or give us a call at 586-697-3300. We will have forms ready to fill out!<br />\n&nbsp\;</div>\n\n<div>All forms must be brought in to our Washington Twp. location or mailed in!<br />\n&nbsp\;</div>\n\n<div>Gold Sponsor ($850)<br />\nHole sponsorship (your business acknowledged at two-tee boxes)\, one raffle prize sponsorship (prize purchased included in sponsor fee)\, golf package for 4 players\, 20 raffle tickets\, and recognition at the after-golf dinner<br />\n&nbsp\;</div>\n\n<div>Silver Sponsor ($500)<br />\nHole sponsorship (your business acknowledged at a tee)\, Golf package for 2 players\, 10 raffle tickets\, and recognition at the after-golf dinner<br />\n&nbsp\;</div>\n\n<div>Bronze Sponsor ($400)<br />\nHole sponsorship (your business acknowledged at a tee)\, Golf package for 1 player\, 5 raffle tickets\, and recognition at the after-golf dinner<br />\n&nbsp\;</div>\n\n<div>Hole Sponsorship ($125)<br />\nHole sponsorship (your business acknowledged at a tee)\, and recognition at the after-golf dinner<br />\n&nbsp\;</div>\n\n<div>Group Of 4 Golfers ($600)<br />\n&nbsp\;</div>\n\n<div>Individual Golfer ($150)<br />\n&nbsp\;</div>\n\n<div>All packages include Continental breakfast at 8 AM\, range service\, a shotgun start at 9 AM\, 18 holes of golf with cart\, lunch at the turn\, gift bag\, 3 drink tickets\, raffle prizes\, and buffet dinner at Brown Iron Washington<br />\n&nbsp\;</div>\n\n<div>All raffle prizes are welcome! No restrictions!</div>\n
LOCATION:67500 Mound Rd Washington\, MI 48095 for golf! 57695 Van Dyke Road ?Washington\, MI 48094 for dinner afterward!
UID:e.2933.4362
SEQUENCE:3
DTSTAMP:20260423T041236Z
URL:http://royaloakchamber.smartcms.site/events/details/brown-iron-charity-golf-outing-4362
END:VEVENT

END:VCALENDAR
