BEGIN:VCALENDAR
VERSION:2.0
PRODID:-//ChamberMaster//Event Calendar 2.0//EN
METHOD:PUBLISH
X-PUBLISHED-TTL:P3D
REFRESH-INTERVAL:P3D
CALSCALE:GREGORIAN
BEGIN:VEVENT
DTSTART:20240418T160000Z
DTEND:20240418T230000Z
X-MICROSOFT-CDO-ALLDAYEVENT:FALSE
SUMMARY:Bring a friend day
DESCRIPTION:Are you or a loved one looking for a gentle chiropractic adjustment without the cracking and popping? Has a friend or loved one been everywhere\, tried everything and are still in pain? This is a great opportunity for them to learn more about how we can help. Bring a Friend Day 2024   Thursday\, April 18th Noon   7:00 p.m for a FREE Examination\, Posture Analysis\, Scan and Consultation plus a FREE laser treatment at Van Every Chiropractic ($200 value) . Call 248-616-0900 to book their appointment now! www.vaneverychiropractic.com
X-ALT-DESC;FMTTYPE=text/html:Are you or a loved one looking for a gentle chiropractic adjustment without the cracking and popping? Has a friend or loved one been everywhere\, tried everything and are still in pain? This is a great opportunity for them to learn more about how we can help. Bring a Friend Day 2024 &ndash\; Thursday\, April 18th Noon &ndash\; 7:00 p.m for a FREE Examination\, Posture Analysis\, Scan and Consultation plus a FREE laser treatment at Van Every Chiropractic ($200 value) . Call 248-616-0900 to book their appointment now! www.vaneverychiropractic.com
LOCATION:Van Every Chiropractic Center
UID:e.2933.4346
SEQUENCE:3
DTSTAMP:20260422T224056Z
URL:http://royaloakchamber.smartcms.site/events/details/bring-a-friend-day-4346
END:VEVENT

END:VCALENDAR
