BEGIN:VCALENDAR
VERSION:2.0
PRODID:-//ChamberMaster//Event Calendar 2.0//EN
METHOD:PUBLISH
X-PUBLISHED-TTL:P3D
REFRESH-INTERVAL:P3D
CALSCALE:GREGORIAN
BEGIN:VEVENT
DTSTART:20241007T230000Z
DTEND:20241008T010000Z
X-MICROSOFT-CDO-ALLDAYEVENT:FALSE
SUMMARY:Breweries and Distilleries Trivia
DESCRIPTION:We've reached out to some breweries and distilleries to pair Quizzo trivia questions exclusively with the participating joints!\n\nEach brewery & distillery has submitted its own trivia questions and will be sending a rep from its location!\n\nThis event is free to participate in!\nThis is our current list as of now...\n\n- Short's Brewing\n\n- Brown Iron\n\n- Aberrant Ales\n\n- New Holland Brewing\n\n- Dark Horse Brewing\n\n- Revolution Brewing\n\n- Brew Dog\n\n- Arbor Brewing\n\n\nLet's see who knows the most about breweries and distilleries! \n\nAll updates will be made on our Facebook event
X-ALT-DESC;FMTTYPE=text/html:<div>We&#39\;ve reached out to some breweries and distilleries to pair Quizzo trivia questions exclusively with the participating joints!</div>\n\n<div>Each brewery &amp\; distillery has submitted its own trivia questions and will be sending a rep from its location!</div>\n\n<div>This event is free to participate in!\n<div>This is our current list as of now...</div>\n\n<div>- Short&#39\;s Brewing<br />\n- Brown Iron<br />\n- Aberrant Ales<br />\n- New Holland Brewing<br />\n- Dark Horse Brewing<br />\n- Revolution Brewing<br />\n- Brew Dog<br />\n- Arbor Brewing</div>\n</div>\n\n<div>Let&#39\;s see who knows the most about breweries and distilleries!&nbsp\;<br />\nAll updates will be made on our Facebook event</div>\n
LOCATION:30955 Woodward Ave.\, Royal Oak\, MI\, United States\, Michigan 48073
UID:e.2933.4558
SEQUENCE:3
DTSTAMP:20260423T075622Z
URL:http://royaloakchamber.smartcms.site/events/details/breweries-and-distilleries-trivia-4558
END:VEVENT

END:VCALENDAR
