BEGIN:VCALENDAR
VERSION:2.0
PRODID:-//ChamberMaster//Event Calendar 2.0//EN
METHOD:PUBLISH
X-PUBLISHED-TTL:P3D
REFRESH-INTERVAL:P3D
CALSCALE:GREGORIAN
BEGIN:VEVENT
DTSTART;VALUE=DATE:20240601
DTEND;VALUE=DATE:20240602
TRANSP:TRANSPARENT
X-MICROSOFT-CDO-ALLDAYEVENT:TRUE
SUMMARY:Blood Cancer Foundation of Michigan's Scavenger Safari & Walk
DESCRIPTION:The Scavenger Safari & Walk brings the community together for an adventurous day at the Detroit Zoo to benefit Blood Cancer Foundation of Michigan. Form a team and compete in our scavenger search\, or simply enjoy a leisurely walk among the animals. The community-wide event provides a day out at the zoo\, as well as a way to support local blood cancer patients and their families. New this year is a Junior Scavenger Safari search just for kids!
X-ALT-DESC;FMTTYPE=text/html:The Scavenger Safari &amp\; Walk brings the community together for an adventurous day at the Detroit Zoo to benefit Blood Cancer Foundation of Michigan. Form a team and compete in our scavenger search\, or simply enjoy a leisurely walk among the animals. The community-wide event provides a day out at the zoo\, as well as a way to support local blood cancer patients and their families. New this year is a Junior Scavenger Safari search just for kids!
LOCATION:The Detroit Zoo 8450 W. 10 Mile Rd. Royal Oak\, MI 48067
UID:e.2933.4352
SEQUENCE:3
DTSTAMP:20260423T004409Z
URL:http://royaloakchamber.smartcms.site/events/details/blood-cancer-foundation-of-michigan-s-scavenger-safari-walk-4352
END:VEVENT

END:VCALENDAR
