BEGIN:VCALENDAR
VERSION:2.0
PRODID:-//ChamberMaster//Event Calendar 2.0//EN
METHOD:PUBLISH
X-PUBLISHED-TTL:P3D
REFRESH-INTERVAL:P3D
CALSCALE:GREGORIAN
BEGIN:VEVENT
DTSTART:20240222T210000Z
DTEND:20240223T000000Z
X-MICROSOFT-CDO-ALLDAYEVENT:FALSE
SUMMARY:Black-Owned Businesses Pop-Up Market
DESCRIPTION:Join us at Bamboo Royal Oak on February 22 for our exciting Black Business Pop-Up Shop! Discover and support a diverse range of local black-owned businesses as they showcase their products and services. From fashion and beauty to food and art\, this event celebrates the creativity and entrepreneurial spirit of our community. Don't miss this opportunity to shop\, connect\, and uplift black-owned businesses. See you there!
X-ALT-DESC;FMTTYPE=text/html:Join us at Bamboo Royal Oak on February 22 for our exciting Black Business Pop-Up Shop! Discover and support a diverse range of local black-owned businesses as they showcase their products and services. From fashion and beauty to food and art\, this event celebrates the creativity and entrepreneurial spirit of our community. Don&#39\;t miss this opportunity to shop\, connect\, and uplift black-owned businesses. See you there!
LOCATION:Bamboo Royal Oak 220 S Main St\, Royal Oak\, MI 48067
UID:e.2933.4318
SEQUENCE:3
DTSTAMP:20260422T175011Z
URL:http://royaloakchamber.smartcms.site/events/details/black-owned-businesses-pop-up-market-4318
END:VEVENT

END:VCALENDAR
